Back to Multiple platform build/check report for BioC 3.13 experimental data
ABCDEFGHIJKLMNOPQ[R]STUVWXYZ

BUILD report for RITANdata on malbec2

This page was generated on 2021-01-21 16:01:20 -0500 (Thu, 21 Jan 2021).

TO THE DEVELOPERS/MAINTAINERS OF THE RITANdata PACKAGE: Please make sure to use the following settings in order to reproduce any error or warning you see on this page.
Package 296/386HostnameOS / ArchINSTALLBUILDCHECK
RITANdata 1.15.0
Michael Zimmermann
Snapshot Date: 2021-01-21 09:00:14 -0500 (Thu, 21 Jan 2021)
URL: https://git.bioconductor.org/packages/RITANdata
Branch: master
Last Commit: df319fe
Last Changed Date: 2020-10-27 10:23:00 -0500 (Tue, 27 Oct 2020)
malbec2 Linux (Ubuntu 20.04.1 LTS) / x86_64  OK [ OK ] OK UNNEEDED, same version exists in internal repository
riesling1 Windows Server 2019 Standard / x64  OK  OK  OK 

Summary

Package: RITANdata
Version: 1.15.0
Command: /home/biocbuild/bbs-3.13-bioc/R/bin/R CMD build --keep-empty-dirs --no-resave-data RITANdata
StartedAt: 2021-01-21 11:16:24 -0500 (Thu, 21 Jan 2021)
EndedAt: 2021-01-21 11:16:38 -0500 (Thu, 21 Jan 2021)
EllapsedTime: 13.6 seconds
RetCode: 0
Status:  OK 
PackageFile: RITANdata_1.15.0.tar.gz
PackageFileSize: 7.433 MiB

Command output

##############################################################################
##############################################################################
###
### Running command:
###
###   /home/biocbuild/bbs-3.13-bioc/R/bin/R CMD build --keep-empty-dirs --no-resave-data RITANdata
###
##############################################################################
##############################################################################


* checking for file ‘RITANdata/DESCRIPTION’ ... OK
* preparing ‘RITANdata’:
* checking DESCRIPTION meta-information ... OK
* installing the package to process help pages
* saving partial Rd database
* creating vignettes ... OK
* checking for LF line-endings in source and make files and shell scripts
* checking for empty or unneeded directories
* building ‘RITANdata_1.15.0.tar.gz’