Back to Multiple platform build/check report for BioC 3.13 experimental data
ABCDEFGHIJKLMNO[P]QRSTUVWXYZ

BUILD report for PepsNMRData on malbec2

This page was generated on 2021-01-14 15:59:04 -0500 (Thu, 14 Jan 2021).

TO THE DEVELOPERS/MAINTAINERS OF THE PepsNMRData PACKAGE: Please make sure to use the following settings in order to reproduce any error or warning you see on this page.
Package 264/385HostnameOS / ArchINSTALLBUILDCHECK
PepsNMRData 1.9.0
Manon Martin
Snapshot Date: 2021-01-14 09:00:13 -0500 (Thu, 14 Jan 2021)
URL: https://git.bioconductor.org/packages/PepsNMRData
Branch: master
Last Commit: 3922255
Last Changed Date: 2020-10-27 10:28:45 -0500 (Tue, 27 Oct 2020)
malbec2 Linux (Ubuntu 20.04.1 LTS) / x86_64  OK [ OK ] OK UNNEEDED, same version exists in internal repository
riesling1 Windows Server 2019 Standard / x64  OK  OK  OK 

Summary

Package: PepsNMRData
Version: 1.9.0
Command: /home/biocbuild/bbs-3.13-bioc/R/bin/R CMD build --keep-empty-dirs --no-resave-data PepsNMRData
StartedAt: 2021-01-14 11:15:45 -0500 (Thu, 14 Jan 2021)
EndedAt: 2021-01-14 11:16:00 -0500 (Thu, 14 Jan 2021)
EllapsedTime: 14.5 seconds
RetCode: 0
Status:  OK 
PackageFile: PepsNMRData_1.9.0.tar.gz
PackageFileSize: 31.89 MiB

Command output

##############################################################################
##############################################################################
###
### Running command:
###
###   /home/biocbuild/bbs-3.13-bioc/R/bin/R CMD build --keep-empty-dirs --no-resave-data PepsNMRData
###
##############################################################################
##############################################################################


* checking for file ‘PepsNMRData/DESCRIPTION’ ... OK
* preparing ‘PepsNMRData’:
* checking DESCRIPTION meta-information ... OK
* checking for LF line-endings in source and make files and shell scripts
* checking for empty or unneeded directories
* building ‘PepsNMRData_1.9.0.tar.gz’