Back to Multiple platform build/check report for BioC 3.13 experimental data
ABCDEFGHIJKLMNOPQR[S]TUVWXYZ

INSTALL report for spatialLIBD on malbec2

This page was generated on 2021-01-14 15:59:05 -0500 (Thu, 14 Jan 2021).

TO THE DEVELOPERS/MAINTAINERS OF THE spatialLIBD PACKAGE: Please make sure to use the following settings in order to reproduce any error or warning you see on this page.
Package 341/385HostnameOS / ArchINSTALLBUILDCHECK
spatialLIBD 1.3.1
Leonardo Collado-Torres
Snapshot Date: 2021-01-14 09:00:13 -0500 (Thu, 14 Jan 2021)
URL: https://git.bioconductor.org/packages/spatialLIBD
Branch: master
Last Commit: a14282a
Last Changed Date: 2020-12-17 18:38:41 -0500 (Thu, 17 Dec 2020)
malbec2 Linux (Ubuntu 20.04.1 LTS) / x86_64 [ OK ] OK  OK UNNEEDED, same version exists in internal repository
riesling1 Windows Server 2019 Standard / x64  OK  OK  ERROR 

Summary

Package: spatialLIBD
Version: 1.3.1
Command: /home/biocbuild/bbs-3.13-bioc/R/bin/R CMD INSTALL spatialLIBD
StartedAt: 2021-01-14 10:12:01 -0500 (Thu, 14 Jan 2021)
EndedAt: 2021-01-14 10:12:45 -0500 (Thu, 14 Jan 2021)
EllapsedTime: 44.0 seconds
RetCode: 0
Status:  OK 

Command output

##############################################################################
##############################################################################
###
### Running command:
###
###   /home/biocbuild/bbs-3.13-bioc/R/bin/R CMD INSTALL spatialLIBD
###
##############################################################################
##############################################################################


* installing to library ‘/home/biocbuild/bbs-3.13-bioc/R/library’
* installing *source* package ‘spatialLIBD’ ...
** using staged installation
** R
** data
*** moving datasets to lazyload DB
** inst
** byte-compile and prepare package for lazy loading
** help
*** installing help indices
*** copying figures
** building package indices
** installing vignettes
** testing if installed package can be loaded from temporary location
** testing if installed package can be loaded from final location
** testing if installed package keeps a record of temporary installation path
* DONE (spatialLIBD)