Back to Multiple platform build/check report for BioC 3.13 experimental data
ABC[D]EFGHIJKLMNOPQRSTUVWXYZ

BUILD report for DMRcatedata on malbec2

This page was generated on 2021-01-21 16:01:07 -0500 (Thu, 21 Jan 2021).

TO THE DEVELOPERS/MAINTAINERS OF THE DMRcatedata PACKAGE: Please make sure to use the following settings in order to reproduce any error or warning you see on this page.
Package 97/386HostnameOS / ArchINSTALLBUILDCHECK
DMRcatedata 2.9.0
Tim Peters
Snapshot Date: 2021-01-21 09:00:14 -0500 (Thu, 21 Jan 2021)
URL: https://git.bioconductor.org/packages/DMRcatedata
Branch: master
Last Commit: 4ef423d
Last Changed Date: 2020-10-27 10:08:17 -0500 (Tue, 27 Oct 2020)
malbec2 Linux (Ubuntu 20.04.1 LTS) / x86_64  OK [ OK ] OK UNNEEDED, same version exists in internal repository
riesling1 Windows Server 2019 Standard / x64  OK  OK  OK 

Summary

Package: DMRcatedata
Version: 2.9.0
Command: /home/biocbuild/bbs-3.13-bioc/R/bin/R CMD build --keep-empty-dirs --no-resave-data DMRcatedata
StartedAt: 2021-01-21 10:36:19 -0500 (Thu, 21 Jan 2021)
EndedAt: 2021-01-21 10:37:15 -0500 (Thu, 21 Jan 2021)
EllapsedTime: 55.8 seconds
RetCode: 0
Status:  OK 
PackageFile: DMRcatedata_2.9.0.tar.gz
PackageFileSize: 99.76 KiB

Command output

##############################################################################
##############################################################################
###
### Running command:
###
###   /home/biocbuild/bbs-3.13-bioc/R/bin/R CMD build --keep-empty-dirs --no-resave-data DMRcatedata
###
##############################################################################
##############################################################################


* checking for file ‘DMRcatedata/DESCRIPTION’ ... OK
* preparing ‘DMRcatedata’:
* checking DESCRIPTION meta-information ... OK
* installing the package to build vignettes
* creating vignettes ... OK
* checking for LF line-endings in source and make files and shell scripts
* checking for empty or unneeded directories
* building ‘DMRcatedata_2.9.0.tar.gz’