Back to Multiple platform build/check report for BioC 3.13 experimental data
ABCDEFGHIJK[L]MNOPQRSTUVWXYZ

INSTALL report for lumiBarnes on malbec2

This page was generated on 2021-01-21 16:01:13 -0500 (Thu, 21 Jan 2021).

TO THE DEVELOPERS/MAINTAINERS OF THE lumiBarnes PACKAGE: Please make sure to use the following settings in order to reproduce any error or warning you see on this page.
Package 199/386HostnameOS / ArchINSTALLBUILDCHECK
lumiBarnes 1.31.0
Pan Du
Snapshot Date: 2021-01-21 09:00:14 -0500 (Thu, 21 Jan 2021)
URL: https://git.bioconductor.org/packages/lumiBarnes
Branch: master
Last Commit: 53e53ef
Last Changed Date: 2020-10-27 09:47:21 -0500 (Tue, 27 Oct 2020)
malbec2 Linux (Ubuntu 20.04.1 LTS) / x86_64 [ OK ] OK  WARNINGS UNNEEDED, same version exists in internal repository
riesling1 Windows Server 2019 Standard / x64  OK  OK  WARNINGS 

Summary

Package: lumiBarnes
Version: 1.31.0
Command: /home/biocbuild/bbs-3.13-bioc/R/bin/R CMD INSTALL lumiBarnes
StartedAt: 2021-01-21 10:10:32 -0500 (Thu, 21 Jan 2021)
EndedAt: 2021-01-21 10:11:00 -0500 (Thu, 21 Jan 2021)
EllapsedTime: 28.1 seconds
RetCode: 0
Status:  OK 

Command output

##############################################################################
##############################################################################
###
### Running command:
###
###   /home/biocbuild/bbs-3.13-bioc/R/bin/R CMD INSTALL lumiBarnes
###
##############################################################################
##############################################################################


* installing to library ‘/home/biocbuild/bbs-3.13-bioc/R/library’
* installing *source* package ‘lumiBarnes’ ...
** using staged installation
** data
** help
*** installing help indices
** building package indices
** testing if installed package can be loaded from temporary location
No methods found in package ‘RSQLite’ for request: ‘dbListFields’ when loading ‘lumi’
** testing if installed package can be loaded from final location
No methods found in package ‘RSQLite’ for request: ‘dbListFields’ when loading ‘lumi’
** testing if installed package keeps a record of temporary installation path
* DONE (lumiBarnes)