Back to Multiple platform build/check report for BioC 3.13 experimental data
ABCDEFGHIJKLMNOPQR[S]TUVWXYZ

INSTALL report for SpikeInSubset on malbec2

This page was generated on 2021-01-21 16:01:22 -0500 (Thu, 21 Jan 2021).

TO THE DEVELOPERS/MAINTAINERS OF THE SpikeInSubset PACKAGE: Please make sure to use the following settings in order to reproduce any error or warning you see on this page.
Package 344/386HostnameOS / ArchINSTALLBUILDCHECK
SpikeInSubset 1.31.0
Rafael A. Irizarry
Snapshot Date: 2021-01-21 09:00:14 -0500 (Thu, 21 Jan 2021)
URL: https://git.bioconductor.org/packages/SpikeInSubset
Branch: master
Last Commit: a23e23d
Last Changed Date: 2020-10-27 09:47:05 -0500 (Tue, 27 Oct 2020)
malbec2 Linux (Ubuntu 20.04.1 LTS) / x86_64 [ OK ] OK  WARNINGS UNNEEDED, same version exists in internal repository
riesling1 Windows Server 2019 Standard / x64  OK  OK  WARNINGS 

Summary

Package: SpikeInSubset
Version: 1.31.0
Command: /home/biocbuild/bbs-3.13-bioc/R/bin/R CMD INSTALL SpikeInSubset
StartedAt: 2021-01-21 09:55:48 -0500 (Thu, 21 Jan 2021)
EndedAt: 2021-01-21 09:55:55 -0500 (Thu, 21 Jan 2021)
EllapsedTime: 6.5 seconds
RetCode: 0
Status:  OK 

Command output

##############################################################################
##############################################################################
###
### Running command:
###
###   /home/biocbuild/bbs-3.13-bioc/R/bin/R CMD INSTALL SpikeInSubset
###
##############################################################################
##############################################################################


* installing to library ‘/home/biocbuild/bbs-3.13-bioc/R/library’
* installing *source* package ‘SpikeInSubset’ ...
** using staged installation
** R
** data
** byte-compile and prepare package for lazy loading
** help
Warning: /home/biocbuild/bbs-3.13-data-experiment/meat/SpikeInSubset/man/xhyb.Rd: docType ‘instance’ is unrecognized
*** installing help indices
** building package indices
** testing if installed package can be loaded from temporary location
** testing if installed package can be loaded from final location
** testing if installed package keeps a record of temporary installation path
* DONE (SpikeInSubset)