Back to Multiple platform build/check report for BioC 3.13 experimental data
ABCDEFGHIJKLMNOPQ[R]STUVWXYZ

INSTALL report for RNAseqData.HNRNPC.bam.chr14 on malbec2

This page was generated on 2021-01-21 16:01:20 -0500 (Thu, 21 Jan 2021).

TO THE DEVELOPERS/MAINTAINERS OF THE RNAseqData.HNRNPC.bam.chr14 PACKAGE: Please make sure to use the following settings in order to reproduce any error or warning you see on this page.
Package 300/386HostnameOS / ArchINSTALLBUILDCHECK
RNAseqData.HNRNPC.bam.chr14 0.29.0
Hervé Pagès
Snapshot Date: 2021-01-21 09:00:14 -0500 (Thu, 21 Jan 2021)
URL: https://git.bioconductor.org/packages/RNAseqData.HNRNPC.bam.chr14
Branch: master
Last Commit: 0fc7dd5
Last Changed Date: 2020-10-27 10:02:25 -0500 (Tue, 27 Oct 2020)
malbec2 Linux (Ubuntu 20.04.1 LTS) / x86_64 [ OK ] OK  OK UNNEEDED, same version exists in internal repository
riesling1 Windows Server 2019 Standard / x64  OK  OK  OK 

Summary

Package: RNAseqData.HNRNPC.bam.chr14
Version: 0.29.0
Command: /home/biocbuild/bbs-3.13-bioc/R/bin/R CMD INSTALL RNAseqData.HNRNPC.bam.chr14
StartedAt: 2021-01-21 09:49:16 -0500 (Thu, 21 Jan 2021)
EndedAt: 2021-01-21 09:50:45 -0500 (Thu, 21 Jan 2021)
EllapsedTime: 89.1 seconds
RetCode: 0
Status:  OK 

Command output

##############################################################################
##############################################################################
###
### Running command:
###
###   /home/biocbuild/bbs-3.13-bioc/R/bin/R CMD INSTALL RNAseqData.HNRNPC.bam.chr14
###
##############################################################################
##############################################################################


* installing to library ‘/home/biocbuild/bbs-3.13-bioc/R/library’
* installing *source* package ‘RNAseqData.HNRNPC.bam.chr14’ ...
** using staged installation
** R
** inst
** byte-compile and prepare package for lazy loading
** help
*** installing help indices
** building package indices
** testing if installed package can be loaded from temporary location
** testing if installed package can be loaded from final location
** testing if installed package keeps a record of temporary installation path
* DONE (RNAseqData.HNRNPC.bam.chr14)