Back to Multiple platform build/check report for BioC 3.13 experimental data
A[B]CDEFGHIJKLMNOPQRSTUVWXYZ

INSTALL report for BeadArrayUseCases on malbec2

This page was generated on 2021-01-21 16:01:02 -0500 (Thu, 21 Jan 2021).

TO THE DEVELOPERS/MAINTAINERS OF THE BeadArrayUseCases PACKAGE: Please make sure to use the following settings in order to reproduce any error or warning you see on this page.
Package 24/386HostnameOS / ArchINSTALLBUILDCHECK
BeadArrayUseCases 1.29.0
Mike Smith
Snapshot Date: 2021-01-21 09:00:14 -0500 (Thu, 21 Jan 2021)
URL: https://git.bioconductor.org/packages/BeadArrayUseCases
Branch: master
Last Commit: 9416683
Last Changed Date: 2020-10-27 09:54:12 -0500 (Tue, 27 Oct 2020)
malbec2 Linux (Ubuntu 20.04.1 LTS) / x86_64 [ OK ] OK  OK UNNEEDED, same version exists in internal repository
riesling1 Windows Server 2019 Standard / x64  OK  OK  OK 

Summary

Package: BeadArrayUseCases
Version: 1.29.0
Command: /home/biocbuild/bbs-3.13-bioc/R/bin/R CMD INSTALL BeadArrayUseCases
StartedAt: 2021-01-21 10:10:43 -0500 (Thu, 21 Jan 2021)
EndedAt: 2021-01-21 10:10:58 -0500 (Thu, 21 Jan 2021)
EllapsedTime: 14.8 seconds
RetCode: 0
Status:  OK 

Command output

##############################################################################
##############################################################################
###
### Running command:
###
###   /home/biocbuild/bbs-3.13-bioc/R/bin/R CMD INSTALL BeadArrayUseCases
###
##############################################################################
##############################################################################


* installing to library ‘/home/biocbuild/bbs-3.13-bioc/R/library’
* installing *source* package ‘BeadArrayUseCases’ ...
** using staged installation
** inst
** help
No man pages found in package  ‘BeadArrayUseCases’ 
*** installing help indices
** building package indices
** installing vignettes
** testing if installed package can be loaded from temporary location
** testing if installed package can be loaded from final location
** testing if installed package keeps a record of temporary installation path
* DONE (BeadArrayUseCases)