Back to Multiple platform build/check report for BioC 3.13 experimental data
ABCDEFGHIJKLMNO[P]QRSTUVWXYZ

INSTALL report for PWMEnrich.Dmelanogaster.background on malbec2

This page was generated on 2021-01-18 15:58:39 -0500 (Mon, 18 Jan 2021).

TO THE DEVELOPERS/MAINTAINERS OF THE PWMEnrich.Dmelanogaster.background PACKAGE: Please make sure to use the following settings in order to reproduce any error or warning you see on this page.
Package 280/385HostnameOS / ArchINSTALLBUILDCHECK
PWMEnrich.Dmelanogaster.background 4.25.0
Diego Diez
Snapshot Date: 2021-01-18 09:00:15 -0500 (Mon, 18 Jan 2021)
URL: https://git.bioconductor.org/packages/PWMEnrich.Dmelanogaster.background
Branch: master
Last Commit: 364c36a
Last Changed Date: 2020-10-27 09:55:42 -0500 (Tue, 27 Oct 2020)
malbec2 Linux (Ubuntu 20.04.1 LTS) / x86_64 [ OK ] OK  WARNINGS UNNEEDED, same version exists in internal repository
riesling1 Windows Server 2019 Standard / x64  OK  OK  WARNINGS 

Summary

Package: PWMEnrich.Dmelanogaster.background
Version: 4.25.0
Command: /home/biocbuild/bbs-3.13-bioc/R/bin/R CMD INSTALL PWMEnrich.Dmelanogaster.background
StartedAt: 2021-01-18 09:57:46 -0500 (Mon, 18 Jan 2021)
EndedAt: 2021-01-18 09:57:57 -0500 (Mon, 18 Jan 2021)
EllapsedTime: 11.5 seconds
RetCode: 0
Status:  OK 

Command output

##############################################################################
##############################################################################
###
### Running command:
###
###   /home/biocbuild/bbs-3.13-bioc/R/bin/R CMD INSTALL PWMEnrich.Dmelanogaster.background
###
##############################################################################
##############################################################################


* installing to library ‘/home/biocbuild/bbs-3.13-bioc/R/library’
* installing *source* package ‘PWMEnrich.Dmelanogaster.background’ ...
** using staged installation
** data
** inst
** help
*** installing help indices
** building package indices
** testing if installed package can be loaded from temporary location
Warning: replacing previous import ‘Biostrings::pattern’ by ‘grid::pattern’ when loading ‘PWMEnrich’
** testing if installed package can be loaded from final location
Warning: replacing previous import ‘Biostrings::pattern’ by ‘grid::pattern’ when loading ‘PWMEnrich’
** testing if installed package keeps a record of temporary installation path
* DONE (PWMEnrich.Dmelanogaster.background)