Back to Multiple platform build/check report for BioC 3.13 experimental data
ABCDEFGHIJKLMNO[P]QRSTUVWXYZ

BUILD report for ppiData on malbec2

This page was generated on 2021-01-14 15:59:04 -0500 (Thu, 14 Jan 2021).

TO THE DEVELOPERS/MAINTAINERS OF THE ppiData PACKAGE: Please make sure to use the following settings in order to reproduce any error or warning you see on this page.
Package 267/385HostnameOS / ArchINSTALLBUILDCHECK
ppiData 0.29.0
Bioconductor Package Maintainer
Snapshot Date: 2021-01-14 09:00:13 -0500 (Thu, 14 Jan 2021)
URL: https://git.bioconductor.org/packages/ppiData
Branch: master
Last Commit: b2d6691
Last Changed Date: 2020-10-27 09:46:51 -0500 (Tue, 27 Oct 2020)
malbec2 Linux (Ubuntu 20.04.1 LTS) / x86_64  OK [ OK ] WARNINGS UNNEEDED, same version exists in internal repository
riesling1 Windows Server 2019 Standard / x64  OK  OK  WARNINGS 

Summary

Package: ppiData
Version: 0.29.0
Command: /home/biocbuild/bbs-3.13-bioc/R/bin/R CMD build --keep-empty-dirs --no-resave-data ppiData
StartedAt: 2021-01-14 11:16:03 -0500 (Thu, 14 Jan 2021)
EndedAt: 2021-01-14 11:16:26 -0500 (Thu, 14 Jan 2021)
EllapsedTime: 23.0 seconds
RetCode: 0
Status:  OK 
PackageFile: ppiData_0.29.0.tar.gz
PackageFileSize: 2.905 MiB

Command output

##############################################################################
##############################################################################
###
### Running command:
###
###   /home/biocbuild/bbs-3.13-bioc/R/bin/R CMD build --keep-empty-dirs --no-resave-data ppiData
###
##############################################################################
##############################################################################


* checking for file ‘ppiData/DESCRIPTION’ ... OK
* preparing ‘ppiData’:
* checking DESCRIPTION meta-information ... OK
* installing the package to build vignettes
* creating vignettes ... OK
* checking for LF line-endings in source and make files and shell scripts
* checking for empty or unneeded directories
* building ‘ppiData_0.29.0.tar.gz’