Back to Multiple platform build/check report for BioC 3.13 experimental data
ABCDEFGHIJKL[M]NOPQRSTUVWXYZ

BUILD report for MethylSeqData on malbec2

This page was generated on 2021-01-14 15:59:03 -0500 (Thu, 14 Jan 2021).

TO THE DEVELOPERS/MAINTAINERS OF THE MethylSeqData PACKAGE: Please make sure to use the following settings in order to reproduce any error or warning you see on this page.
Package 221/385HostnameOS / ArchINSTALLBUILDCHECK
MethylSeqData 1.1.1
Peter Hickey
Snapshot Date: 2021-01-14 09:00:13 -0500 (Thu, 14 Jan 2021)
URL: https://git.bioconductor.org/packages/MethylSeqData
Branch: master
Last Commit: c1b2572
Last Changed Date: 2020-11-24 19:59:48 -0500 (Tue, 24 Nov 2020)
malbec2 Linux (Ubuntu 20.04.1 LTS) / x86_64  OK [ OK ] OK UNNEEDED, same version exists in internal repository
riesling1 Windows Server 2019 Standard / x64  OK  OK  OK 

Summary

Package: MethylSeqData
Version: 1.1.1
Command: /home/biocbuild/bbs-3.13-bioc/R/bin/R CMD build --keep-empty-dirs --no-resave-data MethylSeqData
StartedAt: 2021-01-14 11:09:09 -0500 (Thu, 14 Jan 2021)
EndedAt: 2021-01-14 11:09:59 -0500 (Thu, 14 Jan 2021)
EllapsedTime: 49.6 seconds
RetCode: 0
Status:  OK 
PackageFile: MethylSeqData_1.1.1.tar.gz
PackageFileSize: 228.8 KiB

Command output

##############################################################################
##############################################################################
###
### Running command:
###
###   /home/biocbuild/bbs-3.13-bioc/R/bin/R CMD build --keep-empty-dirs --no-resave-data MethylSeqData
###
##############################################################################
##############################################################################


* checking for file ‘MethylSeqData/DESCRIPTION’ ... OK
* preparing ‘MethylSeqData’:
* checking DESCRIPTION meta-information ... OK
* installing the package to build vignettes
* creating vignettes ... OK
* checking for LF line-endings in source and make files and shell scripts
* checking for empty or unneeded directories
* building ‘MethylSeqData_1.1.1.tar.gz’