Back to Multiple platform build/check report for BioC 3.13 experimental data |
|
This page was generated on 2021-01-21 16:01:07 -0500 (Thu, 21 Jan 2021).
TO THE DEVELOPERS/MAINTAINERS OF THE DLBCL PACKAGE: Please make sure to use the following settings in order to reproduce any error or warning you see on this page. |
Package 95/386 | Hostname | OS / Arch | INSTALL | BUILD | CHECK | ||||||
DLBCL 1.31.0 Marcus Dittrich
| malbec2 | Linux (Ubuntu 20.04.1 LTS) / x86_64 | OK | [ OK ] | WARNINGS | ![]() | |||||
riesling1 | Windows Server 2019 Standard / x64 | OK | OK | WARNINGS |
Package: DLBCL |
Version: 1.31.0 |
Command: /home/biocbuild/bbs-3.13-bioc/R/bin/R CMD build --keep-empty-dirs --no-resave-data DLBCL |
StartedAt: 2021-01-21 10:36:08 -0500 (Thu, 21 Jan 2021) |
EndedAt: 2021-01-21 10:36:09 -0500 (Thu, 21 Jan 2021) |
EllapsedTime: 1.5 seconds |
RetCode: 0 |
Status: OK |
PackageFile: DLBCL_1.31.0.tar.gz |
PackageFileSize: 5.525 MiB |
############################################################################## ############################################################################## ### ### Running command: ### ### /home/biocbuild/bbs-3.13-bioc/R/bin/R CMD build --keep-empty-dirs --no-resave-data DLBCL ### ############################################################################## ############################################################################## * checking for file ‘DLBCL/DESCRIPTION’ ... OK * preparing ‘DLBCL’: * checking DESCRIPTION meta-information ... OK * checking for LF line-endings in source and make files and shell scripts * checking for empty or unneeded directories * looking to see if a ‘data/datalist’ file should be added * building ‘DLBCL_1.31.0.tar.gz’