Back to Multiple platform build/check report for BioC 3.13 experimental data |
|
This page was generated on 2021-01-14 15:59:04 -0500 (Thu, 14 Jan 2021).
TO THE DEVELOPERS/MAINTAINERS OF THE restfulSEData PACKAGE: Please make sure to use the following settings in order to reproduce any error or warning you see on this page. |
Package 292/385 | Hostname | OS / Arch | INSTALL | BUILD | CHECK | ||||||
restfulSEData 1.13.0 Bioconductor Package Maintainer
| malbec2 | Linux (Ubuntu 20.04.1 LTS) / x86_64 | OK | [ OK ] | OK | ![]() | |||||
riesling1 | Windows Server 2019 Standard / x64 | OK | OK | OK |
Package: restfulSEData |
Version: 1.13.0 |
Command: /home/biocbuild/bbs-3.13-bioc/R/bin/R CMD build --keep-empty-dirs --no-resave-data restfulSEData |
StartedAt: 2021-01-14 11:18:40 -0500 (Thu, 14 Jan 2021) |
EndedAt: 2021-01-14 11:19:25 -0500 (Thu, 14 Jan 2021) |
EllapsedTime: 44.5 seconds |
RetCode: 0 |
Status: OK |
PackageFile: restfulSEData_1.13.0.tar.gz |
PackageFileSize: 107.5 KiB |
############################################################################## ############################################################################## ### ### Running command: ### ### /home/biocbuild/bbs-3.13-bioc/R/bin/R CMD build --keep-empty-dirs --no-resave-data restfulSEData ### ############################################################################## ############################################################################## * checking for file ‘restfulSEData/DESCRIPTION’ ... OK * preparing ‘restfulSEData’: * checking DESCRIPTION meta-information ... OK * installing the package to build vignettes * creating vignettes ... OK * checking for LF line-endings in source and make files and shell scripts * checking for empty or unneeded directories * building ‘restfulSEData_1.13.0.tar.gz’