Back to Multiple platform build/check report for BioC 3.13 experimental data
ABC[D]EFGHIJKLMNOPQRSTUVWXYZ

INSTALL report for DmelSGI on malbec2

This page was generated on 2021-01-14 15:58:59 -0500 (Thu, 14 Jan 2021).

TO THE DEVELOPERS/MAINTAINERS OF THE DmelSGI PACKAGE: Please make sure to use the following settings in order to reproduce any error or warning you see on this page.
Package 96/385HostnameOS / ArchINSTALLBUILDCHECK
DmelSGI 1.23.3
Mike Smith
Snapshot Date: 2021-01-14 09:00:13 -0500 (Thu, 14 Jan 2021)
URL: https://git.bioconductor.org/packages/DmelSGI
Branch: master
Last Commit: 2b6365d
Last Changed Date: 2020-12-22 16:04:18 -0500 (Tue, 22 Dec 2020)
malbec2 Linux (Ubuntu 20.04.1 LTS) / x86_64 [ OK ] OK  OK UNNEEDED, same version exists in internal repository
riesling1 Windows Server 2019 Standard / x64  OK  OK  OK 

Summary

Package: DmelSGI
Version: 1.23.3
Command: /home/biocbuild/bbs-3.13-bioc/R/bin/R CMD INSTALL DmelSGI
StartedAt: 2021-01-14 09:55:20 -0500 (Thu, 14 Jan 2021)
EndedAt: 2021-01-14 09:55:39 -0500 (Thu, 14 Jan 2021)
EllapsedTime: 19.3 seconds
RetCode: 0
Status:  OK 

Command output

##############################################################################
##############################################################################
###
### Running command:
###
###   /home/biocbuild/bbs-3.13-bioc/R/bin/R CMD INSTALL DmelSGI
###
##############################################################################
##############################################################################


* installing to library ‘/home/biocbuild/bbs-3.13-bioc/R/library’
* installing *source* package ‘DmelSGI’ ...
** using staged installation
** R
** data
** inst
** byte-compile and prepare package for lazy loading
** help
*** installing help indices
** building package indices
** installing vignettes
** testing if installed package can be loaded from temporary location
** testing if installed package can be loaded from final location
** testing if installed package keeps a record of temporary installation path
* DONE (DmelSGI)