Back to Multiple platform build/check report for BioC 3.13 experimental data
AB[C]DEFGHIJKLMNOPQRSTUVWXYZ

BUILD report for COHCAPanno on malbec2

This page was generated on 2021-01-14 15:58:58 -0500 (Thu, 14 Jan 2021).

TO THE DEVELOPERS/MAINTAINERS OF THE COHCAPanno PACKAGE: Please make sure to use the following settings in order to reproduce any error or warning you see on this page.
Package 70/385HostnameOS / ArchINSTALLBUILDCHECK
COHCAPanno 1.27.0
Charles Warden
Snapshot Date: 2021-01-14 09:00:13 -0500 (Thu, 14 Jan 2021)
URL: https://git.bioconductor.org/packages/COHCAPanno
Branch: master
Last Commit: b771882
Last Changed Date: 2020-10-27 10:07:36 -0500 (Tue, 27 Oct 2020)
malbec2 Linux (Ubuntu 20.04.1 LTS) / x86_64  OK [ OK ] OK UNNEEDED, same version exists in internal repository
riesling1 Windows Server 2019 Standard / x64  OK  OK  OK 

Summary

Package: COHCAPanno
Version: 1.27.0
Command: /home/biocbuild/bbs-3.13-bioc/R/bin/R CMD build --keep-empty-dirs --no-resave-data COHCAPanno
StartedAt: 2021-01-14 10:29:04 -0500 (Thu, 14 Jan 2021)
EndedAt: 2021-01-14 10:29:11 -0500 (Thu, 14 Jan 2021)
EllapsedTime: 7.0 seconds
RetCode: 0
Status:  OK 
PackageFile: COHCAPanno_1.27.0.tar.gz
PackageFileSize: 9.308 MiB

Command output

##############################################################################
##############################################################################
###
### Running command:
###
###   /home/biocbuild/bbs-3.13-bioc/R/bin/R CMD build --keep-empty-dirs --no-resave-data COHCAPanno
###
##############################################################################
##############################################################################


* checking for file ‘COHCAPanno/DESCRIPTION’ ... OK
* preparing ‘COHCAPanno’:
* checking DESCRIPTION meta-information ... OK
* installing the package to build vignettes
* creating vignettes ... OK
* checking for LF line-endings in source and make files and shell scripts
* checking for empty or unneeded directories
* looking to see if a ‘data/datalist’ file should be added
* building ‘COHCAPanno_1.27.0.tar.gz’