Back to Multiple platform build/check report for BioC 3.13 experimental data |
|
This page was generated on 2021-01-14 15:59:05 -0500 (Thu, 14 Jan 2021).
TO THE DEVELOPERS/MAINTAINERS OF THE SNAData PACKAGE: Please make sure to use the following settings in order to reproduce any error or warning you see on this page. |
Package 336/385 | Hostname | OS / Arch | INSTALL | BUILD | CHECK | ||||||
SNAData 1.37.0 Denise Scholtens
| malbec2 | Linux (Ubuntu 20.04.1 LTS) / x86_64 | [ OK ] | OK | OK | ![]() | |||||
riesling1 | Windows Server 2019 Standard / x64 | OK | OK | OK |
Package: SNAData |
Version: 1.37.0 |
Command: /home/biocbuild/bbs-3.13-bioc/R/bin/R CMD INSTALL SNAData |
StartedAt: 2021-01-14 09:54:41 -0500 (Thu, 14 Jan 2021) |
EndedAt: 2021-01-14 09:54:45 -0500 (Thu, 14 Jan 2021) |
EllapsedTime: 4.3 seconds |
RetCode: 0 |
Status: OK |
############################################################################## ############################################################################## ### ### Running command: ### ### /home/biocbuild/bbs-3.13-bioc/R/bin/R CMD INSTALL SNAData ### ############################################################################## ############################################################################## * installing to library ‘/home/biocbuild/bbs-3.13-bioc/R/library’ * installing *source* package ‘SNAData’ ... ** using staged installation ** R ** data ** byte-compile and prepare package for lazy loading ** help *** installing help indices ** building package indices ** installing vignettes ** testing if installed package can be loaded from temporary location ** testing if installed package can be loaded from final location ** testing if installed package keeps a record of temporary installation path * DONE (SNAData)