Back to Multiple platform build/check report for BioC 3.13 experimental data
ABCDEFGHIJKLMNOPQRS[T]UVWXYZ

INSTALL report for TENxPBMCData on malbec2

This page was generated on 2021-01-14 15:59:06 -0500 (Thu, 14 Jan 2021).

TO THE DEVELOPERS/MAINTAINERS OF THE TENxPBMCData PACKAGE: Please make sure to use the following settings in order to reproduce any error or warning you see on this page.
Package 363/385HostnameOS / ArchINSTALLBUILDCHECK
TENxPBMCData 1.9.0
Stephanie Hicks
Snapshot Date: 2021-01-14 09:00:13 -0500 (Thu, 14 Jan 2021)
URL: https://git.bioconductor.org/packages/TENxPBMCData
Branch: master
Last Commit: 92fcf6a
Last Changed Date: 2020-10-27 10:27:24 -0500 (Tue, 27 Oct 2020)
malbec2 Linux (Ubuntu 20.04.1 LTS) / x86_64 [ OK ] OK  OK UNNEEDED, same version exists in internal repository
riesling1 Windows Server 2019 Standard / x64  OK  OK  OK 

Summary

Package: TENxPBMCData
Version: 1.9.0
Command: /home/biocbuild/bbs-3.13-bioc/R/bin/R CMD INSTALL TENxPBMCData
StartedAt: 2021-01-14 10:03:29 -0500 (Thu, 14 Jan 2021)
EndedAt: 2021-01-14 10:03:52 -0500 (Thu, 14 Jan 2021)
EllapsedTime: 23.2 seconds
RetCode: 0
Status:  OK 

Command output

##############################################################################
##############################################################################
###
### Running command:
###
###   /home/biocbuild/bbs-3.13-bioc/R/bin/R CMD INSTALL TENxPBMCData
###
##############################################################################
##############################################################################


* installing to library ‘/home/biocbuild/bbs-3.13-bioc/R/library’
* installing *source* package ‘TENxPBMCData’ ...
** using staged installation
** R
** inst
** byte-compile and prepare package for lazy loading
** help
*** installing help indices
** building package indices
** installing vignettes
** testing if installed package can be loaded from temporary location
** testing if installed package can be loaded from final location
** testing if installed package keeps a record of temporary installation path
* DONE (TENxPBMCData)