Back to Multiple platform build/check report for BioC 3.13 experimental data
ABCDEFGHIJKLMNOPQRSTUV[W]XYZ

BUILD report for WGSmapp on malbec2

This page was generated on 2021-01-14 15:59:06 -0500 (Thu, 14 Jan 2021).

TO THE DEVELOPERS/MAINTAINERS OF THE WGSmapp PACKAGE: Please make sure to use the following settings in order to reproduce any error or warning you see on this page.
Package 377/385HostnameOS / ArchINSTALLBUILDCHECK
WGSmapp 1.3.0
Rujin Wang
Snapshot Date: 2021-01-14 09:00:13 -0500 (Thu, 14 Jan 2021)
URL: https://git.bioconductor.org/packages/WGSmapp
Branch: master
Last Commit: 3434c62
Last Changed Date: 2020-10-27 10:31:08 -0500 (Tue, 27 Oct 2020)
malbec2 Linux (Ubuntu 20.04.1 LTS) / x86_64  OK [ OK ] OK UNNEEDED, same version exists in internal repository
riesling1 Windows Server 2019 Standard / x64  OK  OK  OK 

Summary

Package: WGSmapp
Version: 1.3.0
Command: /home/biocbuild/bbs-3.13-bioc/R/bin/R CMD build --keep-empty-dirs --no-resave-data WGSmapp
StartedAt: 2021-01-14 11:37:43 -0500 (Thu, 14 Jan 2021)
EndedAt: 2021-01-14 11:38:33 -0500 (Thu, 14 Jan 2021)
EllapsedTime: 50.0 seconds
RetCode: 0
Status:  OK 
PackageFile: WGSmapp_1.3.0.tar.gz
PackageFileSize: 195.7 MiB

Command output

##############################################################################
##############################################################################
###
### Running command:
###
###   /home/biocbuild/bbs-3.13-bioc/R/bin/R CMD build --keep-empty-dirs --no-resave-data WGSmapp
###
##############################################################################
##############################################################################


* checking for file ‘WGSmapp/DESCRIPTION’ ... OK
* preparing ‘WGSmapp’:
* checking DESCRIPTION meta-information ... OK
* checking for LF line-endings in source and make files and shell scripts
* checking for empty or unneeded directories
* building ‘WGSmapp_1.3.0.tar.gz’