Back to Multiple platform build/check report for BioC 3.13 experimental data |
|
This page was generated on 2021-01-18 15:58:31 -0500 (Mon, 18 Jan 2021).
TO THE DEVELOPERS/MAINTAINERS OF THE ccTutorial PACKAGE: Please make sure to use the following settings in order to reproduce any error or warning you see on this page. |
Package 48/385 | Hostname | OS / Arch | INSTALL | BUILD | CHECK | ||||||
ccTutorial 1.29.0 Joern Toedling
| malbec2 | Linux (Ubuntu 20.04.1 LTS) / x86_64 | OK | [ OK ] | OK | ![]() | |||||
riesling1 | Windows Server 2019 Standard / x64 | OK | OK | OK |
Package: ccTutorial |
Version: 1.29.0 |
Command: /home/biocbuild/bbs-3.13-bioc/R/bin/R CMD build --keep-empty-dirs --no-resave-data ccTutorial |
StartedAt: 2021-01-18 10:22:04 -0500 (Mon, 18 Jan 2021) |
EndedAt: 2021-01-18 10:26:39 -0500 (Mon, 18 Jan 2021) |
EllapsedTime: 274.2 seconds |
RetCode: 0 |
Status: OK |
PackageFile: ccTutorial_1.29.0.tar.gz |
PackageFileSize: 278.5 MiB |
############################################################################## ############################################################################## ### ### Running command: ### ### /home/biocbuild/bbs-3.13-bioc/R/bin/R CMD build --keep-empty-dirs --no-resave-data ccTutorial ### ############################################################################## ############################################################################## * checking for file ‘ccTutorial/DESCRIPTION’ ... OK * preparing ‘ccTutorial’: * checking DESCRIPTION meta-information ... OK * installing the package to build vignettes * creating vignettes ... OK * checking for LF line-endings in source and make files and shell scripts * checking for empty or unneeded directories * looking to see if a ‘data/datalist’ file should be added * building ‘ccTutorial_1.29.0.tar.gz’