Back to Multiple platform build/check report for BioC 3.13 experimental data
ABCDEFGHIJKL[M]NOPQRSTUVWXYZ

BUILD report for MEDIPSData on malbec2

This page was generated on 2021-01-11 15:59:23 -0500 (Mon, 11 Jan 2021).

TO THE DEVELOPERS/MAINTAINERS OF THE MEDIPSData PACKAGE: Please make sure to use the following settings in order to reproduce any error or warning you see on this page.
Package 214/385HostnameOS / ArchINSTALLBUILDCHECK
MEDIPSData 1.27.0
Lukas Chavez
Snapshot Date: 2021-01-11 09:00:09 -0500 (Mon, 11 Jan 2021)
URL: https://git.bioconductor.org/packages/MEDIPSData
Branch: master
Last Commit: 77e3a9b
Last Changed Date: 2020-10-27 09:56:26 -0500 (Tue, 27 Oct 2020)
malbec2 Linux (Ubuntu 20.04.1 LTS) / x86_64  OK [ OK ] WARNINGS UNNEEDED, same version exists in internal repository
riesling1 Windows Server 2019 Standard / x64  OK  OK  WARNINGS 

Summary

Package: MEDIPSData
Version: 1.27.0
Command: /home/biocbuild/bbs-3.13-bioc/R/bin/R CMD build --keep-empty-dirs --no-resave-data MEDIPSData
StartedAt: 2021-01-11 11:06:38 -0500 (Mon, 11 Jan 2021)
EndedAt: 2021-01-11 11:06:58 -0500 (Mon, 11 Jan 2021)
EllapsedTime: 19.7 seconds
RetCode: 0
Status:  OK 
PackageFile: MEDIPSData_1.27.0.tar.gz
PackageFileSize: 163.1 MiB

Command output

##############################################################################
##############################################################################
###
### Running command:
###
###   /home/biocbuild/bbs-3.13-bioc/R/bin/R CMD build --keep-empty-dirs --no-resave-data MEDIPSData
###
##############################################################################
##############################################################################


* checking for file ‘MEDIPSData/DESCRIPTION’ ... OK
* preparing ‘MEDIPSData’:
* checking DESCRIPTION meta-information ... OK
* checking for LF line-endings in source and make files and shell scripts
* checking for empty or unneeded directories
* looking to see if a ‘data/datalist’ file should be added
* building ‘MEDIPSData_1.27.0.tar.gz’