Back to Multiple platform build/check report for BioC 3.13 experimental data
ABC[D]EFGHIJKLMNOPQRSTUVWXYZ

BUILD report for dsQTL on malbec2

This page was generated on 2021-01-14 15:58:59 -0500 (Thu, 14 Jan 2021).

TO THE DEVELOPERS/MAINTAINERS OF THE dsQTL PACKAGE: Please make sure to use the following settings in order to reproduce any error or warning you see on this page.
Package 104/385HostnameOS / ArchINSTALLBUILDCHECK
dsQTL 0.29.1
VJ Carey
Snapshot Date: 2021-01-14 09:00:13 -0500 (Thu, 14 Jan 2021)
URL: https://git.bioconductor.org/packages/dsQTL
Branch: master
Last Commit: a8e3bdb
Last Changed Date: 2020-11-30 08:23:04 -0500 (Mon, 30 Nov 2020)
malbec2 Linux (Ubuntu 20.04.1 LTS) / x86_64  ERROR [ ERROR ] skipped 
riesling1 Windows Server 2019 Standard / x64  ERROR  ERROR  skipped 

Summary

Package: dsQTL
Version: 0.29.1
Command: /home/biocbuild/bbs-3.13-bioc/R/bin/R CMD build --keep-empty-dirs --no-resave-data dsQTL
StartedAt: 2021-01-14 10:37:17 -0500 (Thu, 14 Jan 2021)
EndedAt: 2021-01-14 10:37:24 -0500 (Thu, 14 Jan 2021)
EllapsedTime: 7.5 seconds
RetCode: 1
Status:  ERROR 
PackageFile: None
PackageFileSize: NA

Command output

##############################################################################
##############################################################################
###
### Running command:
###
###   /home/biocbuild/bbs-3.13-bioc/R/bin/R CMD build --keep-empty-dirs --no-resave-data dsQTL
###
##############################################################################
##############################################################################


* checking for file ‘dsQTL/DESCRIPTION’ ... OK
* preparing ‘dsQTL’:
* checking DESCRIPTION meta-information ... OK
* installing the package to build vignettes
      -----------------------------------
ERROR: dependency ‘GGBase’ is not available for package ‘dsQTL’
* removing ‘/tmp/Rtmpo8WNJq/Rinst3c3f1d37dc0379/dsQTL’
      -----------------------------------
ERROR: package installation failed