Back to Multiple platform build/check report for BioC 3.13 experimental data
ABCDEFGHIJKLMNOPQ[R]STUVWXYZ

INSTALL report for rheumaticConditionWOLLBOLD on malbec2

This page was generated on 2021-01-18 15:58:39 -0500 (Mon, 18 Jan 2021).

TO THE DEVELOPERS/MAINTAINERS OF THE rheumaticConditionWOLLBOLD PACKAGE: Please make sure to use the following settings in order to reproduce any error or warning you see on this page.
Package 295/385HostnameOS / ArchINSTALLBUILDCHECK
rheumaticConditionWOLLBOLD 1.29.0
Alejandro Quiroz-Zarate
Snapshot Date: 2021-01-18 09:00:15 -0500 (Mon, 18 Jan 2021)
URL: https://git.bioconductor.org/packages/rheumaticConditionWOLLBOLD
Branch: master
Last Commit: 91ceab7
Last Changed Date: 2020-10-27 09:54:45 -0500 (Tue, 27 Oct 2020)
malbec2 Linux (Ubuntu 20.04.1 LTS) / x86_64 [ OK ] OK  OK UNNEEDED, same version exists in internal repository
riesling1 Windows Server 2019 Standard / x64  OK  OK  OK 

Summary

Package: rheumaticConditionWOLLBOLD
Version: 1.29.0
Command: /home/biocbuild/bbs-3.13-bioc/R/bin/R CMD INSTALL rheumaticConditionWOLLBOLD
StartedAt: 2021-01-18 09:53:15 -0500 (Mon, 18 Jan 2021)
EndedAt: 2021-01-18 09:53:19 -0500 (Mon, 18 Jan 2021)
EllapsedTime: 3.7 seconds
RetCode: 0
Status:  OK 

Command output

##############################################################################
##############################################################################
###
### Running command:
###
###   /home/biocbuild/bbs-3.13-bioc/R/bin/R CMD INSTALL rheumaticConditionWOLLBOLD
###
##############################################################################
##############################################################################


* installing to library ‘/home/biocbuild/bbs-3.13-bioc/R/library’
* installing *source* package ‘rheumaticConditionWOLLBOLD’ ...
** using staged installation
** data
** help
*** installing help indices
** building package indices
** testing if installed package can be loaded from temporary location
** testing if installed package can be loaded from final location
** testing if installed package keeps a record of temporary installation path
* DONE (rheumaticConditionWOLLBOLD)