Back to Multiple platform build/check report for BioC 3.13 experimental data
AB[C]DEFGHIJKLMNOPQRSTUVWXYZ

CHECK report for clustifyrdatahub on malbec2

This page was generated on 2021-01-18 15:58:32 -0500 (Mon, 18 Jan 2021).

TO THE DEVELOPERS/MAINTAINERS OF THE clustifyrdatahub PACKAGE: Please make sure to use the following settings in order to reproduce any error or warning you see on this page.
Package 67/385HostnameOS / ArchINSTALLBUILDCHECK
clustifyrdatahub 1.1.0
Rui Fu
Snapshot Date: 2021-01-18 09:00:15 -0500 (Mon, 18 Jan 2021)
URL: https://git.bioconductor.org/packages/clustifyrdatahub
Branch: master
Last Commit: 95cdae9
Last Changed Date: 2020-10-27 10:32:19 -0500 (Tue, 27 Oct 2020)
malbec2 Linux (Ubuntu 20.04.1 LTS) / x86_64  OK  OK [ OK ]UNNEEDED, same version exists in internal repository
riesling1 Windows Server 2019 Standard / x64  OK  OK  OK 

Summary

Package: clustifyrdatahub
Version: 1.1.0
Command: /home/biocbuild/bbs-3.13-bioc/R/bin/R CMD check --install=check:clustifyrdatahub.install-out.txt --library=/home/biocbuild/bbs-3.13-bioc/R/library --no-vignettes --timings clustifyrdatahub_1.1.0.tar.gz
StartedAt: 2021-01-18 11:47:53 -0500 (Mon, 18 Jan 2021)
EndedAt: 2021-01-18 11:50:11 -0500 (Mon, 18 Jan 2021)
EllapsedTime: 138.0 seconds
RetCode: 0
Status:  OK 
CheckDir: clustifyrdatahub.Rcheck
Warnings: 0

Command output

##############################################################################
##############################################################################
###
### Running command:
###
###   /home/biocbuild/bbs-3.13-bioc/R/bin/R CMD check --install=check:clustifyrdatahub.install-out.txt --library=/home/biocbuild/bbs-3.13-bioc/R/library --no-vignettes --timings clustifyrdatahub_1.1.0.tar.gz
###
##############################################################################
##############################################################################


* using log directory ‘/home/biocbuild/bbs-3.13-data-experiment/meat/clustifyrdatahub.Rcheck’
* using R Under development (unstable) (2021-01-05 r79797)
* using platform: x86_64-pc-linux-gnu (64-bit)
* using session charset: UTF-8
* using option ‘--no-vignettes’
* checking for file ‘clustifyrdatahub/DESCRIPTION’ ... OK
* this is package ‘clustifyrdatahub’ version ‘1.1.0’
* package encoding: UTF-8
* checking package namespace information ... OK
* checking package dependencies ... OK
* checking if this is a source package ... OK
* checking if there is a namespace ... OK
* checking for hidden files and directories ... NOTE
Found the following hidden files and directories:
  .git_fetch_output.txt
  .git_merge_output.txt
These were most likely included in error. See section ‘Package
structure’ in the ‘Writing R Extensions’ manual.
* checking for portable file names ... OK
* checking for sufficient/correct file permissions ... OK
* checking whether package ‘clustifyrdatahub’ can be installed ... OK
* checking installed package size ... OK
* checking package directory ... OK
* checking ‘build’ directory ... OK
* checking DESCRIPTION meta-information ... OK
* checking top-level files ... OK
* checking for left-over files ... OK
* checking index information ... OK
* checking package subdirectories ... OK
* checking R files for non-ASCII characters ... OK
* checking R files for syntax errors ... OK
* checking whether the package can be loaded ... OK
* checking whether the package can be loaded with stated dependencies ... OK
* checking whether the package can be unloaded cleanly ... OK
* checking whether the namespace can be loaded with stated dependencies ... OK
* checking whether the namespace can be unloaded cleanly ... OK
* checking dependencies in R code ... OK
* checking S3 generic/method consistency ... OK
* checking replacement functions ... OK
* checking foreign function calls ... OK
* checking R code for possible problems ... OK
* checking Rd files ... OK
* checking Rd metadata ... OK
* checking Rd cross-references ... OK
* checking for missing documentation entries ... OK
* checking for code/documentation mismatches ... OK
* checking Rd \usage sections ... OK
* checking Rd contents ... OK
* checking for unstated dependencies in examples ... OK
* checking files in ‘vignettes’ ... OK
* checking examples ... OK
* checking for unstated dependencies in vignettes ... OK
* checking package vignettes in ‘inst/doc’ ... OK
* checking running R code from vignettes ... SKIPPED
* checking re-building of vignette outputs ... SKIPPED
* checking PDF version of manual ... OK
* DONE

Status: 1 NOTE
See
  ‘/home/biocbuild/bbs-3.13-data-experiment/meat/clustifyrdatahub.Rcheck/00check.log’
for details.



Installation output

clustifyrdatahub.Rcheck/00install.out

##############################################################################
##############################################################################
###
### Running command:
###
###   /home/biocbuild/bbs-3.13-bioc/R/bin/R CMD INSTALL clustifyrdatahub
###
##############################################################################
##############################################################################


* installing to library ‘/home/biocbuild/bbs-3.13-bioc/R/library’
* installing *source* package ‘clustifyrdatahub’ ...
** using staged installation
** R
** inst
** byte-compile and prepare package for lazy loading
** help
*** installing help indices
** building package indices
** installing vignettes
** testing if installed package can be loaded from temporary location
snapshotDate(): 2021-01-15
** testing if installed package can be loaded from final location
snapshotDate(): 2021-01-15
** testing if installed package keeps a record of temporary installation path
* DONE (clustifyrdatahub)

Tests output


Example timings

clustifyrdatahub.Rcheck/clustifyrdatahub-Ex.timings

nameusersystemelapsed
ref_MCA1.2150.0201.588
ref_cortex_dev1.2570.0121.626
ref_hema_microarray1.2060.0161.488
ref_immgen1.2470.0201.531
ref_moca_main1.3720.0241.751
ref_mouse.rnaseq1.2850.0161.759
ref_mouse_atlas1.4120.0241.790
ref_pan_indrop1.1830.0241.656
ref_pan_smartseq21.2530.0161.622
ref_tabula_muris_drop1.2620.0041.620
ref_tabula_muris_facs1.2460.0121.516