Back to Multiple platform build/check report for BioC 3.13 experimental data
ABCDEFGH[I]JKLMNOPQRSTUVWXYZ

BUILD report for Illumina450ProbeVariants.db on malbec2

This page was generated on 2021-01-21 16:01:12 -0500 (Thu, 21 Jan 2021).

TO THE DEVELOPERS/MAINTAINERS OF THE Illumina450ProbeVariants.db PACKAGE: Please make sure to use the following settings in order to reproduce any error or warning you see on this page.
Package 184/386HostnameOS / ArchINSTALLBUILDCHECK
Illumina450ProbeVariants.db 1.27.0
Tiffany Morris
Snapshot Date: 2021-01-21 09:00:14 -0500 (Thu, 21 Jan 2021)
URL: https://git.bioconductor.org/packages/Illumina450ProbeVariants.db
Branch: master
Last Commit: c89f233
Last Changed Date: 2020-10-27 10:06:38 -0500 (Tue, 27 Oct 2020)
malbec2 Linux (Ubuntu 20.04.1 LTS) / x86_64  OK [ OK ] OK UNNEEDED, same version exists in internal repository
riesling1 Windows Server 2019 Standard / x64  OK  OK  OK 

Summary

Package: Illumina450ProbeVariants.db
Version: 1.27.0
Command: /home/biocbuild/bbs-3.13-bioc/R/bin/R CMD build --keep-empty-dirs --no-resave-data Illumina450ProbeVariants.db
StartedAt: 2021-01-21 11:01:30 -0500 (Thu, 21 Jan 2021)
EndedAt: 2021-01-21 11:01:33 -0500 (Thu, 21 Jan 2021)
EllapsedTime: 2.8 seconds
RetCode: 0
Status:  OK 
PackageFile: Illumina450ProbeVariants.db_1.27.0.tar.gz
PackageFileSize: 6.414 MiB

Command output

##############################################################################
##############################################################################
###
### Running command:
###
###   /home/biocbuild/bbs-3.13-bioc/R/bin/R CMD build --keep-empty-dirs --no-resave-data Illumina450ProbeVariants.db
###
##############################################################################
##############################################################################


* checking for file ‘Illumina450ProbeVariants.db/DESCRIPTION’ ... OK
* preparing ‘Illumina450ProbeVariants.db’:
* checking DESCRIPTION meta-information ... OK
* checking for LF line-endings in source and make files and shell scripts
* checking for empty or unneeded directories
* looking to see if a ‘data/datalist’ file should be added
* building ‘Illumina450ProbeVariants.db_1.27.0.tar.gz’