Back to Multiple platform build/check report for BioC 3.13 experimental data |
|
This page was generated on 2021-01-11 15:59:23 -0500 (Mon, 11 Jan 2021).
TO THE DEVELOPERS/MAINTAINERS OF THE HMP2Data PACKAGE: Please make sure to use the following settings in order to reproduce any error or warning you see on this page. |
Package 178/385 | Hostname | OS / Arch | INSTALL | BUILD | CHECK | ||||||
HMP2Data 1.5.0 John Stansfield
| malbec2 | Linux (Ubuntu 20.04.1 LTS) / x86_64 | OK | [ OK ] | OK | ![]() | |||||
riesling1 | Windows Server 2019 Standard / x64 | OK | OK | OK |
Package: HMP2Data |
Version: 1.5.0 |
Command: /home/biocbuild/bbs-3.13-bioc/R/bin/R CMD build --keep-empty-dirs --no-resave-data HMP2Data |
StartedAt: 2021-01-11 11:00:50 -0500 (Mon, 11 Jan 2021) |
EndedAt: 2021-01-11 11:01:57 -0500 (Mon, 11 Jan 2021) |
EllapsedTime: 66.9 seconds |
RetCode: 0 |
Status: OK |
PackageFile: HMP2Data_1.5.0.tar.gz |
PackageFileSize: 5.096 MiB |
############################################################################## ############################################################################## ### ### Running command: ### ### /home/biocbuild/bbs-3.13-bioc/R/bin/R CMD build --keep-empty-dirs --no-resave-data HMP2Data ### ############################################################################## ############################################################################## * checking for file ‘HMP2Data/DESCRIPTION’ ... OK * preparing ‘HMP2Data’: * checking DESCRIPTION meta-information ... OK * installing the package to build vignettes * creating vignettes ... OK * checking for LF line-endings in source and make files and shell scripts * checking for empty or unneeded directories * looking to see if a ‘data/datalist’ file should be added * building ‘HMP2Data_1.5.0.tar.gz’