Back to Multiple platform build/check report for BioC 3.13 experimental data |
|
This page was generated on 2021-01-14 15:59:03 -0500 (Thu, 14 Jan 2021).
TO THE DEVELOPERS/MAINTAINERS OF THE JASPAR2016 PACKAGE: Please make sure to use the following settings in order to reproduce any error or warning you see on this page. |
Package 189/385 | Hostname | OS / Arch | INSTALL | BUILD | CHECK | ||||||
JASPAR2016 1.19.0 Ge Tan
| malbec2 | Linux (Ubuntu 20.04.1 LTS) / x86_64 | [ OK ] | OK | OK | ![]() | |||||
riesling1 | Windows Server 2019 Standard / x64 | OK | OK | OK |
Package: JASPAR2016 |
Version: 1.19.0 |
Command: /home/biocbuild/bbs-3.13-bioc/R/bin/R CMD INSTALL JASPAR2016 |
StartedAt: 2021-01-14 09:54:33 -0500 (Thu, 14 Jan 2021) |
EndedAt: 2021-01-14 09:54:36 -0500 (Thu, 14 Jan 2021) |
EllapsedTime: 3.5 seconds |
RetCode: 0 |
Status: OK |
############################################################################## ############################################################################## ### ### Running command: ### ### /home/biocbuild/bbs-3.13-bioc/R/bin/R CMD INSTALL JASPAR2016 ### ############################################################################## ############################################################################## * installing to library ‘/home/biocbuild/bbs-3.13-bioc/R/library’ * installing *source* package ‘JASPAR2016’ ... ** using staged installation ** R ** inst ** byte-compile and prepare package for lazy loading ** help *** installing help indices ** building package indices ** testing if installed package can be loaded from temporary location ** testing if installed package can be loaded from final location ** testing if installed package keeps a record of temporary installation path * DONE (JASPAR2016)