Back to Multiple platform build/check report for BioC 3.13 experimental data
ABCDEFGHIJKLMNOPQR[S]TUVWXYZ

INSTALL report for SingleCellMultiModal on malbec2

This page was generated on 2021-01-14 15:59:05 -0500 (Thu, 14 Jan 2021).

TO THE DEVELOPERS/MAINTAINERS OF THE SingleCellMultiModal PACKAGE: Please make sure to use the following settings in order to reproduce any error or warning you see on this page.
Package 335/385HostnameOS / ArchINSTALLBUILDCHECK
SingleCellMultiModal 1.3.8
Marcel Ramos
Snapshot Date: 2021-01-14 09:00:13 -0500 (Thu, 14 Jan 2021)
URL: https://git.bioconductor.org/packages/SingleCellMultiModal
Branch: master
Last Commit: bff6878
Last Changed Date: 2021-01-08 12:26:17 -0500 (Fri, 08 Jan 2021)
malbec2 Linux (Ubuntu 20.04.1 LTS) / x86_64 [ OK ] OK  OK UNNEEDED, same version exists in internal repository
riesling1 Windows Server 2019 Standard / x64  OK  OK  ERROR 

Summary

Package: SingleCellMultiModal
Version: 1.3.8
Command: /home/biocbuild/bbs-3.13-bioc/R/bin/R CMD INSTALL SingleCellMultiModal
StartedAt: 2021-01-14 10:02:22 -0500 (Thu, 14 Jan 2021)
EndedAt: 2021-01-14 10:02:48 -0500 (Thu, 14 Jan 2021)
EllapsedTime: 26.5 seconds
RetCode: 0
Status:  OK 

Command output

##############################################################################
##############################################################################
###
### Running command:
###
###   /home/biocbuild/bbs-3.13-bioc/R/bin/R CMD INSTALL SingleCellMultiModal
###
##############################################################################
##############################################################################


* installing to library ‘/home/biocbuild/bbs-3.13-bioc/R/library’
* installing *source* package ‘SingleCellMultiModal’ ...
** using staged installation
** R
** inst
** byte-compile and prepare package for lazy loading
** help
*** installing help indices
** building package indices
** installing vignettes
** testing if installed package can be loaded from temporary location
** testing if installed package can be loaded from final location
** testing if installed package keeps a record of temporary installation path
* DONE (SingleCellMultiModal)