Back to Multiple platform build/check report for BioC 3.13 experimental data
ABCDEFGHIJKLMNO[P]QRSTUVWXYZ

BUILD report for pepDat on malbec2

This page was generated on 2021-01-11 15:59:24 -0500 (Mon, 11 Jan 2021).

TO THE DEVELOPERS/MAINTAINERS OF THE pepDat PACKAGE: Please make sure to use the following settings in order to reproduce any error or warning you see on this page.
Package 263/385HostnameOS / ArchINSTALLBUILDCHECK
pepDat 1.11.0
Renan Sauteraud
Snapshot Date: 2021-01-11 09:00:09 -0500 (Mon, 11 Jan 2021)
URL: https://git.bioconductor.org/packages/pepDat
Branch: master
Last Commit: b26683e
Last Changed Date: 2020-10-27 10:09:25 -0500 (Tue, 27 Oct 2020)
malbec2 Linux (Ubuntu 20.04.1 LTS) / x86_64  OK [ OK ] OK UNNEEDED, same version exists in internal repository
riesling1 Windows Server 2019 Standard / x64  OK  OK  OK 

Summary

Package: pepDat
Version: 1.11.0
Command: /home/biocbuild/bbs-3.13-bioc/R/bin/R CMD build --keep-empty-dirs --no-resave-data pepDat
StartedAt: 2021-01-11 11:13:14 -0500 (Mon, 11 Jan 2021)
EndedAt: 2021-01-11 11:13:30 -0500 (Mon, 11 Jan 2021)
EllapsedTime: 15.5 seconds
RetCode: 0
Status:  OK 
PackageFile: pepDat_1.11.0.tar.gz
PackageFileSize: 2.653 MiB

Command output

##############################################################################
##############################################################################
###
### Running command:
###
###   /home/biocbuild/bbs-3.13-bioc/R/bin/R CMD build --keep-empty-dirs --no-resave-data pepDat
###
##############################################################################
##############################################################################


* checking for file ‘pepDat/DESCRIPTION’ ... OK
* preparing ‘pepDat’:
* checking DESCRIPTION meta-information ... OK
* installing the package to build vignettes
* creating vignettes ... OK
* checking for LF line-endings in source and make files and shell scripts
* checking for empty or unneeded directories
* looking to see if a ‘data/datalist’ file should be added
* building ‘pepDat_1.11.0.tar.gz’