Back to Multiple platform build/check report for BioC 3.13 experimental data
A[B]CDEFGHIJKLMNOPQRSTUVWXYZ

BUILD report for BloodCancerMultiOmics2017 on malbec2

This page was generated on 2021-01-21 16:01:03 -0500 (Thu, 21 Jan 2021).

TO THE DEVELOPERS/MAINTAINERS OF THE BloodCancerMultiOmics2017 PACKAGE: Please make sure to use the following settings in order to reproduce any error or warning you see on this page.
Package 31/386HostnameOS / ArchINSTALLBUILDCHECK
BloodCancerMultiOmics2017 1.11.0
Malgorzata Oles
Snapshot Date: 2021-01-21 09:00:14 -0500 (Thu, 21 Jan 2021)
URL: https://git.bioconductor.org/packages/BloodCancerMultiOmics2017
Branch: master
Last Commit: 7d60da4
Last Changed Date: 2020-10-27 10:26:12 -0500 (Tue, 27 Oct 2020)
malbec2 Linux (Ubuntu 20.04.1 LTS) / x86_64  OK [ OK ] OK UNNEEDED, same version exists in internal repository
riesling1 Windows Server 2019 Standard / x64  OK  OK  OK 

Summary

Package: BloodCancerMultiOmics2017
Version: 1.11.0
Command: /home/biocbuild/bbs-3.13-bioc/R/bin/R CMD build --keep-empty-dirs --no-resave-data BloodCancerMultiOmics2017
StartedAt: 2021-01-21 10:19:26 -0500 (Thu, 21 Jan 2021)
EndedAt: 2021-01-21 10:54:00 -0500 (Thu, 21 Jan 2021)
EllapsedTime: 2074.5 seconds
RetCode: 0
Status:  OK 
PackageFile: BloodCancerMultiOmics2017_1.11.0.tar.gz
PackageFileSize: 52.32 MiB

Command output

##############################################################################
##############################################################################
###
### Running command:
###
###   /home/biocbuild/bbs-3.13-bioc/R/bin/R CMD build --keep-empty-dirs --no-resave-data BloodCancerMultiOmics2017
###
##############################################################################
##############################################################################


* checking for file ‘BloodCancerMultiOmics2017/DESCRIPTION’ ... OK
* preparing ‘BloodCancerMultiOmics2017’:
* checking DESCRIPTION meta-information ... OK
* installing the package to build vignettes
* creating vignettes ... OK
* checking for LF line-endings in source and make files and shell scripts
* checking for empty or unneeded directories
* building ‘BloodCancerMultiOmics2017_1.11.0.tar.gz’