Back to Multiple platform build/check report for BioC 3.13 experimental data
ABCDE[F]GHIJKLMNOPQRSTUVWXYZ

CHECK report for faahKO on malbec2

This page was generated on 2021-01-11 15:59:21 -0500 (Mon, 11 Jan 2021).

TO THE DEVELOPERS/MAINTAINERS OF THE faahKO PACKAGE: Please make sure to use the following settings in order to reproduce any error or warning you see on this page.
Package 114/385HostnameOS / ArchINSTALLBUILDCHECK
faahKO 1.31.0
Steffen Neumann
Snapshot Date: 2021-01-11 09:00:09 -0500 (Mon, 11 Jan 2021)
URL: https://git.bioconductor.org/packages/faahKO
Branch: master
Last Commit: b9fb3c8
Last Changed Date: 2020-10-27 09:45:37 -0500 (Tue, 27 Oct 2020)
malbec2 Linux (Ubuntu 20.04.1 LTS) / x86_64  OK  OK [ OK ]UNNEEDED, same version exists in internal repository
riesling1 Windows Server 2019 Standard / x64  OK  OK  WARNINGS 

Summary

Package: faahKO
Version: 1.31.0
Command: /home/biocbuild/bbs-3.13-bioc/R/bin/R CMD check --install=check:faahKO.install-out.txt --library=/home/biocbuild/bbs-3.13-bioc/R/library --no-vignettes --timings faahKO_1.31.0.tar.gz
StartedAt: 2021-01-11 12:00:03 -0500 (Mon, 11 Jan 2021)
EndedAt: 2021-01-11 12:03:18 -0500 (Mon, 11 Jan 2021)
EllapsedTime: 195.0 seconds
RetCode: 0
Status:  OK 
CheckDir: faahKO.Rcheck
Warnings: 0

Command output

##############################################################################
##############################################################################
###
### Running command:
###
###   /home/biocbuild/bbs-3.13-bioc/R/bin/R CMD check --install=check:faahKO.install-out.txt --library=/home/biocbuild/bbs-3.13-bioc/R/library --no-vignettes --timings faahKO_1.31.0.tar.gz
###
##############################################################################
##############################################################################


* using log directory ‘/home/biocbuild/bbs-3.13-data-experiment/meat/faahKO.Rcheck’
* using R Under development (unstable) (2021-01-05 r79797)
* using platform: x86_64-pc-linux-gnu (64-bit)
* using session charset: UTF-8
* using option ‘--no-vignettes’
* checking for file ‘faahKO/DESCRIPTION’ ... OK
* this is package ‘faahKO’ version ‘1.31.0’
* checking package namespace information ... OK
* checking package dependencies ... OK
* checking if this is a source package ... OK
* checking if there is a namespace ... OK
* checking for hidden files and directories ... OK
* checking for portable file names ... OK
* checking for sufficient/correct file permissions ... OK
* checking whether package ‘faahKO’ can be installed ... OK
* checking installed package size ... NOTE
  installed size is 43.2Mb
  sub-directories of 1Mb or more:
    cdf  42.4Mb
* checking package directory ... OK
* checking DESCRIPTION meta-information ... OK
* checking top-level files ... OK
* checking for left-over files ... OK
* checking index information ... OK
* checking package subdirectories ... OK
* checking R files for non-ASCII characters ... OK
* checking R files for syntax errors ... OK
* checking whether the package can be loaded ... OK
* checking whether the package can be loaded with stated dependencies ... OK
* checking whether the package can be unloaded cleanly ... OK
* checking whether the namespace can be loaded with stated dependencies ... OK
* checking whether the namespace can be unloaded cleanly ... OK
* checking dependencies in R code ... NOTE
'library' or 'require' call to ‘xcms’ which was already attached by Depends.
  Please remove these calls from your code.
Package in Depends field not imported from: ‘xcms’
  These packages need to be imported from (in the NAMESPACE file)
  for when this namespace is loaded but not attached.
* checking S3 generic/method consistency ... OK
* checking replacement functions ... OK
* checking foreign function calls ... OK
* checking R code for possible problems ... NOTE
File ‘faahKO/R/zzz.R’:
  .onLoad calls:
    require(xcms)

Package startup functions should not change the search path.
See section ‘Good practice’ in '?.onAttach'.

.onLoad: warning in assign("faahko", faahko, env =
  getNamespace("faahKO")): partial argument match of 'env' to 'envir'
* checking Rd files ... OK
* checking Rd metadata ... OK
* checking Rd cross-references ... OK
* checking for missing documentation entries ... OK
* checking for code/documentation mismatches ... OK
* checking Rd \usage sections ... OK
* checking Rd contents ... OK
* checking for unstated dependencies in examples ... OK
* checking contents of ‘data’ directory ... OK
* checking data for non-ASCII characters ... OK
* checking data for ASCII and uncompressed saves ... OK
* checking examples ... OK
* checking PDF version of manual ... OK
* DONE

Status: 3 NOTEs
See
  ‘/home/biocbuild/bbs-3.13-data-experiment/meat/faahKO.Rcheck/00check.log’
for details.



Installation output

faahKO.Rcheck/00install.out

##############################################################################
##############################################################################
###
### Running command:
###
###   /home/biocbuild/bbs-3.13-bioc/R/bin/R CMD INSTALL faahKO
###
##############################################################################
##############################################################################


* installing to library ‘/home/biocbuild/bbs-3.13-bioc/R/library’
* installing *source* package ‘faahKO’ ...
** using staged installation
** R
** data
** inst
** byte-compile and prepare package for lazy loading
** help
*** installing help indices
** building package indices
** testing if installed package can be loaded from temporary location
** testing if installed package can be loaded from final location
** testing if installed package keeps a record of temporary installation path
* DONE (faahKO)

Tests output


Example timings

faahKO.Rcheck/faahKO-Ex.timings

nameusersystemelapsed
faahko2.1470.1162.643
faahko30.3020.0080.310