Back to Multiple platform build/check report for BioC 3.13 experimental data
ABCDEFGHIJKLMNOPQ[R]STUVWXYZ

BUILD report for RforProteomics on malbec2

This page was generated on 2021-01-14 15:59:04 -0500 (Thu, 14 Jan 2021).

TO THE DEVELOPERS/MAINTAINERS OF THE RforProteomics PACKAGE: Please make sure to use the following settings in order to reproduce any error or warning you see on this page.
Package 293/385HostnameOS / ArchINSTALLBUILDCHECK
RforProteomics 1.29.2
Laurent Gatto
Snapshot Date: 2021-01-14 09:00:13 -0500 (Thu, 14 Jan 2021)
URL: https://git.bioconductor.org/packages/RforProteomics
Branch: master
Last Commit: 68db25d
Last Changed Date: 2020-12-09 16:21:27 -0500 (Wed, 09 Dec 2020)
malbec2 Linux (Ubuntu 20.04.1 LTS) / x86_64  OK [ OK ] WARNINGS UNNEEDED, same version exists in internal repository
riesling1 Windows Server 2019 Standard / x64  OK  OK  WARNINGS 

Summary

Package: RforProteomics
Version: 1.29.2
Command: /home/biocbuild/bbs-3.13-bioc/R/bin/R CMD build --keep-empty-dirs --no-resave-data RforProteomics
StartedAt: 2021-01-14 11:18:42 -0500 (Thu, 14 Jan 2021)
EndedAt: 2021-01-14 11:26:52 -0500 (Thu, 14 Jan 2021)
EllapsedTime: 490.4 seconds
RetCode: 0
Status:  OK 
PackageFile: RforProteomics_1.29.2.tar.gz
PackageFileSize: 7.853 MiB

Command output

##############################################################################
##############################################################################
###
### Running command:
###
###   /home/biocbuild/bbs-3.13-bioc/R/bin/R CMD build --keep-empty-dirs --no-resave-data RforProteomics
###
##############################################################################
##############################################################################


* checking for file ‘RforProteomics/DESCRIPTION’ ... OK
* preparing ‘RforProteomics’:
* checking DESCRIPTION meta-information ... OK
* installing the package to build vignettes
* creating vignettes ... OK
* checking for LF line-endings in source and make files and shell scripts
* checking for empty or unneeded directories
* looking to see if a ‘data/datalist’ file should be added
* building ‘RforProteomics_1.29.2.tar.gz’