Back to Multiple platform build/check report for BioC 3.13 experimental data
ABCDEFGHIJKLMNOPQ[R]STUVWXYZ

BUILD report for rcellminerData on malbec2

This page was generated on 2021-01-18 15:58:39 -0500 (Mon, 18 Jan 2021).

TO THE DEVELOPERS/MAINTAINERS OF THE rcellminerData PACKAGE: Please make sure to use the following settings in order to reproduce any error or warning you see on this page.
Package 288/385HostnameOS / ArchINSTALLBUILDCHECK
rcellminerData 2.13.0
Augustin Luna , Vinodh Rajapakse
Snapshot Date: 2021-01-18 09:00:15 -0500 (Mon, 18 Jan 2021)
URL: https://git.bioconductor.org/packages/rcellminerData
Branch: master
Last Commit: cda0aed
Last Changed Date: 2020-10-27 10:11:59 -0500 (Tue, 27 Oct 2020)
malbec2 Linux (Ubuntu 20.04.1 LTS) / x86_64  OK [ OK ] WARNINGS UNNEEDED, same version exists in internal repository
riesling1 Windows Server 2019 Standard / x64  OK  OK  WARNINGS 

Summary

Package: rcellminerData
Version: 2.13.0
Command: /home/biocbuild/bbs-3.13-bioc/R/bin/R CMD build --keep-empty-dirs --no-resave-data rcellminerData
StartedAt: 2021-01-18 11:14:57 -0500 (Mon, 18 Jan 2021)
EndedAt: 2021-01-18 11:17:52 -0500 (Mon, 18 Jan 2021)
EllapsedTime: 174.8 seconds
RetCode: 0
Status:  OK 
PackageFile: rcellminerData_2.13.0.tar.gz
PackageFileSize: 183.6 MiB

Command output

##############################################################################
##############################################################################
###
### Running command:
###
###   /home/biocbuild/bbs-3.13-bioc/R/bin/R CMD build --keep-empty-dirs --no-resave-data rcellminerData
###
##############################################################################
##############################################################################


* checking for file ‘rcellminerData/DESCRIPTION’ ... OK
* preparing ‘rcellminerData’:
* checking DESCRIPTION meta-information ... OK
* installing the package to build vignettes
* creating vignettes ... OK
* checking for LF line-endings in source and make files and shell scripts
* checking for empty or unneeded directories
* building ‘rcellminerData_2.13.0.tar.gz’