Back to Multiple platform build/check report for BioC 3.13 experimental data
ABCDEFGHIJKLMNO[P]QRSTUVWXYZ

INSTALL report for PtH2O2lipids on malbec2

This page was generated on 2021-01-18 15:58:39 -0500 (Mon, 18 Jan 2021).

TO THE DEVELOPERS/MAINTAINERS OF THE PtH2O2lipids PACKAGE: Please make sure to use the following settings in order to reproduce any error or warning you see on this page.
Package 278/385HostnameOS / ArchINSTALLBUILDCHECK
PtH2O2lipids 1.17.0
James Collins
Snapshot Date: 2021-01-18 09:00:15 -0500 (Mon, 18 Jan 2021)
URL: https://git.bioconductor.org/packages/PtH2O2lipids
Branch: master
Last Commit: 4f4a24b
Last Changed Date: 2020-10-27 10:21:27 -0500 (Tue, 27 Oct 2020)
malbec2 Linux (Ubuntu 20.04.1 LTS) / x86_64 [ OK ] OK  WARNINGS UNNEEDED, same version exists in internal repository
riesling1 Windows Server 2019 Standard / x64  OK  OK  WARNINGS 

Summary

Package: PtH2O2lipids
Version: 1.17.0
Command: /home/biocbuild/bbs-3.13-bioc/R/bin/R CMD INSTALL PtH2O2lipids
StartedAt: 2021-01-18 10:11:05 -0500 (Mon, 18 Jan 2021)
EndedAt: 2021-01-18 10:11:48 -0500 (Mon, 18 Jan 2021)
EllapsedTime: 42.8 seconds
RetCode: 0
Status:  OK 

Command output

##############################################################################
##############################################################################
###
### Running command:
###
###   /home/biocbuild/bbs-3.13-bioc/R/bin/R CMD INSTALL PtH2O2lipids
###
##############################################################################
##############################################################################


* installing to library ‘/home/biocbuild/bbs-3.13-bioc/R/library’
* installing *source* package ‘PtH2O2lipids’ ...
** using staged installation
** R
** data
** inst
** byte-compile and prepare package for lazy loading
Warning message:
multiple methods tables found for ‘polarity<-’ 
Warning: replacing previous import ‘xcms::polarity<-’ by ‘LOBSTAHS::polarity<-’ when loading ‘PtH2O2lipids’
** help
*** installing help indices
** building package indices
** testing if installed package can be loaded from temporary location
Warning: multiple methods tables found for ‘polarity<-’
Warning: replacing previous import ‘xcms::polarity<-’ by ‘LOBSTAHS::polarity<-’ when loading ‘PtH2O2lipids’
** testing if installed package can be loaded from final location
Warning: multiple methods tables found for ‘polarity<-’
Warning: replacing previous import ‘xcms::polarity<-’ by ‘LOBSTAHS::polarity<-’ when loading ‘PtH2O2lipids’
** testing if installed package keeps a record of temporary installation path
* DONE (PtH2O2lipids)