Back to Multiple platform build/check report for BioC 3.13 experimental data |
|
This page was generated on 2021-01-18 15:58:41 -0500 (Mon, 18 Jan 2021).
TO THE DEVELOPERS/MAINTAINERS OF THE tissueTreg PACKAGE: Please make sure to use the following settings in order to reproduce any error or warning you see on this page. |
Package 368/385 | Hostname | OS / Arch | INSTALL | BUILD | CHECK | ||||||
tissueTreg 1.11.0 Charles Imbusch
| malbec2 | Linux (Ubuntu 20.04.1 LTS) / x86_64 | OK | [ OK ] | OK | ![]() | |||||
riesling1 | Windows Server 2019 Standard / x64 | OK | OK | OK |
Package: tissueTreg |
Version: 1.11.0 |
Command: /home/biocbuild/bbs-3.13-bioc/R/bin/R CMD build --keep-empty-dirs --no-resave-data tissueTreg |
StartedAt: 2021-01-18 11:32:21 -0500 (Mon, 18 Jan 2021) |
EndedAt: 2021-01-18 11:35:33 -0500 (Mon, 18 Jan 2021) |
EllapsedTime: 191.8 seconds |
RetCode: 0 |
Status: OK |
PackageFile: tissueTreg_1.11.0.tar.gz |
PackageFileSize: 571.5 KiB |
############################################################################## ############################################################################## ### ### Running command: ### ### /home/biocbuild/bbs-3.13-bioc/R/bin/R CMD build --keep-empty-dirs --no-resave-data tissueTreg ### ############################################################################## ############################################################################## * checking for file ‘tissueTreg/DESCRIPTION’ ... OK * preparing ‘tissueTreg’: * checking DESCRIPTION meta-information ... OK * installing the package to build vignettes * creating vignettes ... OK * checking for LF line-endings in source and make files and shell scripts * checking for empty or unneeded directories * building ‘tissueTreg_1.11.0.tar.gz’