Back to Multiple platform build/check report for BioC 3.13 experimental data
[A]BCDEFGHIJKLMNOPQRSTUVWXYZ

INSTALL report for Affymoe4302Expr on malbec2

This page was generated on 2021-01-18 15:58:30 -0500 (Mon, 18 Jan 2021).

TO THE DEVELOPERS/MAINTAINERS OF THE Affymoe4302Expr PACKAGE: Please make sure to use the following settings in order to reproduce any error or warning you see on this page.
Package 9/385HostnameOS / ArchINSTALLBUILDCHECK
Affymoe4302Expr 1.29.0
Zhicheng Ji
Snapshot Date: 2021-01-18 09:00:15 -0500 (Mon, 18 Jan 2021)
URL: https://git.bioconductor.org/packages/Affymoe4302Expr
Branch: master
Last Commit: ddab6bb
Last Changed Date: 2020-10-27 10:07:56 -0500 (Tue, 27 Oct 2020)
malbec2 Linux (Ubuntu 20.04.1 LTS) / x86_64 [ OK ] OK  OK UNNEEDED, same version exists in internal repository
riesling1 Windows Server 2019 Standard / x64  OK  OK  OK 

Summary

Package: Affymoe4302Expr
Version: 1.29.0
Command: /home/biocbuild/bbs-3.13-bioc/R/bin/R CMD INSTALL Affymoe4302Expr
StartedAt: 2021-01-18 09:56:16 -0500 (Mon, 18 Jan 2021)
EndedAt: 2021-01-18 09:56:42 -0500 (Mon, 18 Jan 2021)
EllapsedTime: 25.6 seconds
RetCode: 0
Status:  OK 

Command output

##############################################################################
##############################################################################
###
### Running command:
###
###   /home/biocbuild/bbs-3.13-bioc/R/bin/R CMD INSTALL Affymoe4302Expr
###
##############################################################################
##############################################################################


* installing to library ‘/home/biocbuild/bbs-3.13-bioc/R/library’
* installing *source* package ‘Affymoe4302Expr’ ...
** using staged installation
** data
** inst
** help
*** installing help indices
** building package indices
** testing if installed package can be loaded from temporary location
** testing if installed package can be loaded from final location
** testing if installed package keeps a record of temporary installation path
* DONE (Affymoe4302Expr)