Back to Multiple platform build/check report for BioC 3.13 experimental data
A[B]CDEFGHIJKLMNOPQRSTUVWXYZ

INSTALL report for bladderbatch on malbec2

This page was generated on 2021-01-21 16:01:03 -0500 (Thu, 21 Jan 2021).

TO THE DEVELOPERS/MAINTAINERS OF THE bladderbatch PACKAGE: Please make sure to use the following settings in order to reproduce any error or warning you see on this page.
Package 29/386HostnameOS / ArchINSTALLBUILDCHECK
bladderbatch 1.29.0
Jeffrey T. Leek
Snapshot Date: 2021-01-21 09:00:14 -0500 (Thu, 21 Jan 2021)
URL: https://git.bioconductor.org/packages/bladderbatch
Branch: master
Last Commit: 8eb688a
Last Changed Date: 2020-10-27 09:53:50 -0500 (Tue, 27 Oct 2020)
malbec2 Linux (Ubuntu 20.04.1 LTS) / x86_64 [ OK ] OK  WARNINGS UNNEEDED, same version exists in internal repository
riesling1 Windows Server 2019 Standard / x64  OK  OK  WARNINGS 

Summary

Package: bladderbatch
Version: 1.29.0
Command: /home/biocbuild/bbs-3.13-bioc/R/bin/R CMD INSTALL bladderbatch
StartedAt: 2021-01-21 09:54:28 -0500 (Thu, 21 Jan 2021)
EndedAt: 2021-01-21 09:54:33 -0500 (Thu, 21 Jan 2021)
EllapsedTime: 4.3 seconds
RetCode: 0
Status:  OK 

Command output

##############################################################################
##############################################################################
###
### Running command:
###
###   /home/biocbuild/bbs-3.13-bioc/R/bin/R CMD INSTALL bladderbatch
###
##############################################################################
##############################################################################


* installing to library ‘/home/biocbuild/bbs-3.13-bioc/R/library’
* installing *source* package ‘bladderbatch’ ...
** using staged installation
** data
** help
*** installing help indices
** building package indices
** installing vignettes
** testing if installed package can be loaded from temporary location
** testing if installed package can be loaded from final location
** testing if installed package keeps a record of temporary installation path
* DONE (bladderbatch)