Back to Multiple platform build/check report for BioC 3.13 experimental data
ABCDEF[G]HIJKLMNOPQRSTUVWXYZ

BUILD report for genomationData on malbec2

This page was generated on 2021-01-21 16:01:10 -0500 (Thu, 21 Jan 2021).

TO THE DEVELOPERS/MAINTAINERS OF THE genomationData PACKAGE: Please make sure to use the following settings in order to reproduce any error or warning you see on this page.
Package 140/386HostnameOS / ArchINSTALLBUILDCHECK
genomationData 1.23.0
Vedran Franke
Snapshot Date: 2021-01-21 09:00:14 -0500 (Thu, 21 Jan 2021)
URL: https://git.bioconductor.org/packages/genomationData
Branch: master
Last Commit: 6fab726
Last Changed Date: 2020-10-27 10:10:52 -0500 (Tue, 27 Oct 2020)
malbec2 Linux (Ubuntu 20.04.1 LTS) / x86_64  OK [ OK ] OK UNNEEDED, same version exists in internal repository
riesling1 Windows Server 2019 Standard / x64  OK  OK  OK 

Summary

Package: genomationData
Version: 1.23.0
Command: /home/biocbuild/bbs-3.13-bioc/R/bin/R CMD build --keep-empty-dirs --no-resave-data genomationData
StartedAt: 2021-01-21 10:53:38 -0500 (Thu, 21 Jan 2021)
EndedAt: 2021-01-21 10:53:48 -0500 (Thu, 21 Jan 2021)
EllapsedTime: 10.3 seconds
RetCode: 0
Status:  OK 
PackageFile: genomationData_1.23.0.tar.gz
PackageFileSize: 66.49 MiB

Command output

##############################################################################
##############################################################################
###
### Running command:
###
###   /home/biocbuild/bbs-3.13-bioc/R/bin/R CMD build --keep-empty-dirs --no-resave-data genomationData
###
##############################################################################
##############################################################################


* checking for file ‘genomationData/DESCRIPTION’ ... OK
* preparing ‘genomationData’:
* checking DESCRIPTION meta-information ... OK
* installing the package to build vignettes
* creating vignettes ... OK
* checking for LF line-endings in source and make files and shell scripts
* checking for empty or unneeded directories
* building ‘genomationData_1.23.0.tar.gz’