Back to Multiple platform build/check report for BioC 3.13 experimental data
ABCDEFGHIJKLMNOPQRS[T]UVWXYZ

BUILD report for TENxBrainData on malbec2

This page was generated on 2021-01-21 16:01:23 -0500 (Thu, 21 Jan 2021).

TO THE DEVELOPERS/MAINTAINERS OF THE TENxBrainData PACKAGE: Please make sure to use the following settings in order to reproduce any error or warning you see on this page.
Package 362/386HostnameOS / ArchINSTALLBUILDCHECK
TENxBrainData 1.11.0
Bioconductor Package Maintainer
Snapshot Date: 2021-01-21 09:00:14 -0500 (Thu, 21 Jan 2021)
URL: https://git.bioconductor.org/packages/TENxBrainData
Branch: master
Last Commit: e886adc
Last Changed Date: 2020-10-27 10:25:48 -0500 (Tue, 27 Oct 2020)
malbec2 Linux (Ubuntu 20.04.1 LTS) / x86_64  OK [ OK ] OK UNNEEDED, same version exists in internal repository
riesling1 Windows Server 2019 Standard / x64  OK  OK  OK 

Summary

Package: TENxBrainData
Version: 1.11.0
Command: /home/biocbuild/bbs-3.13-bioc/R/bin/R CMD build --keep-empty-dirs --no-resave-data TENxBrainData
StartedAt: 2021-01-21 11:31:47 -0500 (Thu, 21 Jan 2021)
EndedAt: 2021-01-21 11:39:08 -0500 (Thu, 21 Jan 2021)
EllapsedTime: 441.2 seconds
RetCode: 0
Status:  OK 
PackageFile: TENxBrainData_1.11.0.tar.gz
PackageFileSize: 343.4 KiB

Command output

##############################################################################
##############################################################################
###
### Running command:
###
###   /home/biocbuild/bbs-3.13-bioc/R/bin/R CMD build --keep-empty-dirs --no-resave-data TENxBrainData
###
##############################################################################
##############################################################################


* checking for file ‘TENxBrainData/DESCRIPTION’ ... OK
* preparing ‘TENxBrainData’:
* checking DESCRIPTION meta-information ... OK
* installing the package to build vignettes
* creating vignettes ... OK
* checking for LF line-endings in source and make files and shell scripts
* checking for empty or unneeded directories
* building ‘TENxBrainData_1.11.0.tar.gz’