Back to Multiple platform build/check report for BioC 3.13 experimental data
ABCDEFGHIJKLMNOPQR[S]TUVWXYZ

INSTALL report for scRNAseq on malbec2

This page was generated on 2021-01-14 15:59:05 -0500 (Thu, 14 Jan 2021).

TO THE DEVELOPERS/MAINTAINERS OF THE scRNAseq PACKAGE: Please make sure to use the following settings in order to reproduce any error or warning you see on this page.
Package 323/385HostnameOS / ArchINSTALLBUILDCHECK
scRNAseq 2.5.1
Aaron Lun
Snapshot Date: 2021-01-14 09:00:13 -0500 (Thu, 14 Jan 2021)
URL: https://git.bioconductor.org/packages/scRNAseq
Branch: master
Last Commit: f6c502b
Last Changed Date: 2021-01-14 00:05:28 -0500 (Thu, 14 Jan 2021)
malbec2 Linux (Ubuntu 20.04.1 LTS) / x86_64 [ OK ] OK  OK YES, new version is higher than in internal repository
riesling1 Windows Server 2019 Standard / x64  OK  OK  ERROR 

Summary

Package: scRNAseq
Version: 2.5.1
Command: /home/biocbuild/bbs-3.13-bioc/R/bin/R CMD INSTALL scRNAseq
StartedAt: 2021-01-14 10:01:55 -0500 (Thu, 14 Jan 2021)
EndedAt: 2021-01-14 10:02:33 -0500 (Thu, 14 Jan 2021)
EllapsedTime: 37.8 seconds
RetCode: 0
Status:  OK 

Command output

##############################################################################
##############################################################################
###
### Running command:
###
###   /home/biocbuild/bbs-3.13-bioc/R/bin/R CMD INSTALL scRNAseq
###
##############################################################################
##############################################################################


* installing to library ‘/home/biocbuild/bbs-3.13-bioc/R/library’
* installing *source* package ‘scRNAseq’ ...
** using staged installation
** R
** inst
** byte-compile and prepare package for lazy loading
** help
*** installing help indices
** building package indices
** installing vignettes
** testing if installed package can be loaded from temporary location
** testing if installed package can be loaded from final location
** testing if installed package keeps a record of temporary installation path
* DONE (scRNAseq)