Back to Multiple platform build/check report for BioC 3.13 experimental data
ABCDEFGHIJK[L]MNOPQRSTUVWXYZ

CHECK report for leeBamViews on malbec2

This page was generated on 2021-01-11 15:59:23 -0500 (Mon, 11 Jan 2021).

TO THE DEVELOPERS/MAINTAINERS OF THE leeBamViews PACKAGE: Please make sure to use the following settings in order to reproduce any error or warning you see on this page.
Package 195/385HostnameOS / ArchINSTALLBUILDCHECK
leeBamViews 1.27.0
VJ Carey
Snapshot Date: 2021-01-11 09:00:09 -0500 (Mon, 11 Jan 2021)
URL: https://git.bioconductor.org/packages/leeBamViews
Branch: master
Last Commit: bea5a54
Last Changed Date: 2020-10-27 09:51:45 -0500 (Tue, 27 Oct 2020)
malbec2 Linux (Ubuntu 20.04.1 LTS) / x86_64  OK  OK [ OK ]UNNEEDED, same version exists in internal repository
riesling1 Windows Server 2019 Standard / x64  OK  OK  OK 

Summary

Package: leeBamViews
Version: 1.27.0
Command: /home/biocbuild/bbs-3.13-bioc/R/bin/R CMD check --install=check:leeBamViews.install-out.txt --library=/home/biocbuild/bbs-3.13-bioc/R/library --no-vignettes --timings leeBamViews_1.27.0.tar.gz
StartedAt: 2021-01-11 12:16:49 -0500 (Mon, 11 Jan 2021)
EndedAt: 2021-01-11 12:19:35 -0500 (Mon, 11 Jan 2021)
EllapsedTime: 165.7 seconds
RetCode: 0
Status:  OK 
CheckDir: leeBamViews.Rcheck
Warnings: 0

Command output

##############################################################################
##############################################################################
###
### Running command:
###
###   /home/biocbuild/bbs-3.13-bioc/R/bin/R CMD check --install=check:leeBamViews.install-out.txt --library=/home/biocbuild/bbs-3.13-bioc/R/library --no-vignettes --timings leeBamViews_1.27.0.tar.gz
###
##############################################################################
##############################################################################


* using log directory ‘/home/biocbuild/bbs-3.13-data-experiment/meat/leeBamViews.Rcheck’
* using R Under development (unstable) (2021-01-05 r79797)
* using platform: x86_64-pc-linux-gnu (64-bit)
* using session charset: UTF-8
* using option ‘--no-vignettes’
* checking for file ‘leeBamViews/DESCRIPTION’ ... OK
* this is package ‘leeBamViews’ version ‘1.27.0’
* checking package namespace information ... OK
* checking package dependencies ... OK
* checking if this is a source package ... OK
* checking if there is a namespace ... OK
* checking for hidden files and directories ... NOTE
Found the following hidden files and directories:
  .git_fetch_output.txt
  .git_merge_output.txt
These were most likely included in error. See section ‘Package
structure’ in the ‘Writing R Extensions’ manual.
* checking for portable file names ... OK
* checking for sufficient/correct file permissions ... OK
* checking whether package ‘leeBamViews’ can be installed ... OK
* checking installed package size ... NOTE
  installed size is 11.1Mb
  sub-directories of 1Mb or more:
    bam  10.1Mb
* checking package directory ... OK
* checking ‘build’ directory ... OK
* checking DESCRIPTION meta-information ... NOTE
Malformed Description field: should contain one or more complete sentences.
Non-standard license specification:
  Artistic 2.0
Standardizable: TRUE
Standardized license specification:
  Artistic-2.0
* checking top-level files ... OK
* checking for left-over files ... OK
* checking index information ... OK
* checking package subdirectories ... OK
* checking R files for non-ASCII characters ... OK
* checking R files for syntax errors ... OK
* checking whether the package can be loaded ... OK
* checking whether the package can be loaded with stated dependencies ... OK
* checking whether the package can be unloaded cleanly ... OK
* checking whether the namespace can be loaded with stated dependencies ... OK
* checking whether the namespace can be unloaded cleanly ... OK
* checking dependencies in R code ... OK
* checking S3 generic/method consistency ... OK
* checking replacement functions ... OK
* checking foreign function calls ... OK
* checking R code for possible problems ... OK
* checking Rd files ... OK
* checking Rd metadata ... OK
* checking Rd cross-references ... OK
* checking for missing documentation entries ... OK
* checking for code/documentation mismatches ... OK
* checking Rd \usage sections ... OK
* checking Rd contents ... OK
* checking for unstated dependencies in examples ... OK
* checking contents of ‘data’ directory ... OK
* checking data for non-ASCII characters ... OK
* checking data for ASCII and uncompressed saves ... OK
* checking files in ‘vignettes’ ... OK
* checking examples ... OK
Examples with CPU (user + system) or elapsed time > 5s
               user system elapsed
tabulateReads 5.871  0.104   6.017
* checking for unstated dependencies in vignettes ... OK
* checking package vignettes in ‘inst/doc’ ... OK
* checking running R code from vignettes ... SKIPPED
* checking re-building of vignette outputs ... SKIPPED
* checking PDF version of manual ... OK
* DONE

Status: 3 NOTEs
See
  ‘/home/biocbuild/bbs-3.13-data-experiment/meat/leeBamViews.Rcheck/00check.log’
for details.



Installation output

leeBamViews.Rcheck/00install.out

##############################################################################
##############################################################################
###
### Running command:
###
###   /home/biocbuild/bbs-3.13-bioc/R/bin/R CMD INSTALL leeBamViews
###
##############################################################################
##############################################################################


* installing to library ‘/home/biocbuild/bbs-3.13-bioc/R/library’
* installing *source* package ‘leeBamViews’ ...
** using staged installation
** R
** data
** inst
** byte-compile and prepare package for lazy loading
** help
*** installing help indices
** building package indices
** installing vignettes
** testing if installed package can be loaded from temporary location
** testing if installed package can be loaded from final location
** testing if installed package keeps a record of temporary installation path
* DONE (leeBamViews)

Tests output


Example timings

leeBamViews.Rcheck/leeBamViews-Ex.timings

nameusersystemelapsed
bs11.2120.0293.293
leeRPKM0.0360.0000.036
leeUnn0.6620.0000.662
tabulateReads5.8710.1046.017
totalReadCounts1.0320.0201.727