Back to Multiple platform build/check report for BioC 3.13 experimental data |
|
This page was generated on 2021-01-14 15:58:59 -0500 (Thu, 14 Jan 2021).
TO THE DEVELOPERS/MAINTAINERS OF THE DLBCL PACKAGE: Please make sure to use the following settings in order to reproduce any error or warning you see on this page. |
Package 95/385 | Hostname | OS / Arch | INSTALL | BUILD | CHECK | ||||||
DLBCL 1.31.0 Marcus Dittrich
| malbec2 | Linux (Ubuntu 20.04.1 LTS) / x86_64 | [ OK ] | OK | WARNINGS | ![]() | |||||
riesling1 | Windows Server 2019 Standard / x64 | OK | OK | WARNINGS |
Package: DLBCL |
Version: 1.31.0 |
Command: /home/biocbuild/bbs-3.13-bioc/R/bin/R CMD INSTALL DLBCL |
StartedAt: 2021-01-14 09:54:14 -0500 (Thu, 14 Jan 2021) |
EndedAt: 2021-01-14 09:54:19 -0500 (Thu, 14 Jan 2021) |
EllapsedTime: 5.5 seconds |
RetCode: 0 |
Status: OK |
############################################################################## ############################################################################## ### ### Running command: ### ### /home/biocbuild/bbs-3.13-bioc/R/bin/R CMD INSTALL DLBCL ### ############################################################################## ############################################################################## * installing to library ‘/home/biocbuild/bbs-3.13-bioc/R/library’ * installing *source* package ‘DLBCL’ ... ** using staged installation ** data ** help *** installing help indices ** building package indices ** testing if installed package can be loaded from temporary location ** testing if installed package can be loaded from final location ** testing if installed package keeps a record of temporary installation path * DONE (DLBCL)