Back to Multiple platform build/check report for BioC 3.13 experimental data |
|
This page was generated on 2021-01-21 16:01:08 -0500 (Thu, 21 Jan 2021).
TO THE DEVELOPERS/MAINTAINERS OF THE dressCheck PACKAGE: Please make sure to use the following settings in order to reproduce any error or warning you see on this page. |
Package 101/386 | Hostname | OS / Arch | INSTALL | BUILD | CHECK | ||||||
dressCheck 0.29.0 Vincent Carey
| malbec2 | Linux (Ubuntu 20.04.1 LTS) / x86_64 | OK | [ OK ] | OK | ![]() | |||||
riesling1 | Windows Server 2019 Standard / x64 | OK | OK | OK |
Package: dressCheck |
Version: 0.29.0 |
Command: /home/biocbuild/bbs-3.13-bioc/R/bin/R CMD build --keep-empty-dirs --no-resave-data dressCheck |
StartedAt: 2021-01-21 10:37:54 -0500 (Thu, 21 Jan 2021) |
EndedAt: 2021-01-21 10:38:22 -0500 (Thu, 21 Jan 2021) |
EllapsedTime: 27.7 seconds |
RetCode: 0 |
Status: OK |
PackageFile: dressCheck_0.29.0.tar.gz |
PackageFileSize: 65.7 MiB |
############################################################################## ############################################################################## ### ### Running command: ### ### /home/biocbuild/bbs-3.13-bioc/R/bin/R CMD build --keep-empty-dirs --no-resave-data dressCheck ### ############################################################################## ############################################################################## * checking for file ‘dressCheck/DESCRIPTION’ ... OK * preparing ‘dressCheck’: * checking DESCRIPTION meta-information ... OK * installing the package to build vignettes * creating vignettes ... OK * checking for LF line-endings in source and make files and shell scripts * checking for empty or unneeded directories * looking to see if a ‘data/datalist’ file should be added * building ‘dressCheck_0.29.0.tar.gz’