Back to Multiple platform build/check report for BioC 3.13 experimental data
ABCDEFG[H]IJKLMNOPQRSTUVWXYZ

INSTALL report for HIVcDNAvantWout03 on malbec2

This page was generated on 2021-01-14 15:59:03 -0500 (Thu, 14 Jan 2021).

TO THE DEVELOPERS/MAINTAINERS OF THE HIVcDNAvantWout03 PACKAGE: Please make sure to use the following settings in order to reproduce any error or warning you see on this page.
Package 176/385HostnameOS / ArchINSTALLBUILDCHECK
HIVcDNAvantWout03 1.31.0
Chris Fraley
Snapshot Date: 2021-01-14 09:00:13 -0500 (Thu, 14 Jan 2021)
URL: https://git.bioconductor.org/packages/HIVcDNAvantWout03
Branch: master
Last Commit: 3a4e1d5
Last Changed Date: 2020-10-27 09:46:34 -0500 (Tue, 27 Oct 2020)
malbec2 Linux (Ubuntu 20.04.1 LTS) / x86_64 [ OK ] OK  WARNINGS UNNEEDED, same version exists in internal repository
riesling1 Windows Server 2019 Standard / x64  OK  OK  WARNINGS 

Summary

Package: HIVcDNAvantWout03
Version: 1.31.0
Command: /home/biocbuild/bbs-3.13-bioc/R/bin/R CMD INSTALL HIVcDNAvantWout03
StartedAt: 2021-01-14 09:47:54 -0500 (Thu, 14 Jan 2021)
EndedAt: 2021-01-14 09:47:57 -0500 (Thu, 14 Jan 2021)
EllapsedTime: 3.1 seconds
RetCode: 0
Status:  OK 

Command output

##############################################################################
##############################################################################
###
### Running command:
###
###   /home/biocbuild/bbs-3.13-bioc/R/bin/R CMD INSTALL HIVcDNAvantWout03
###
##############################################################################
##############################################################################


* installing to library ‘/home/biocbuild/bbs-3.13-bioc/R/library’
* installing *source* package ‘HIVcDNAvantWout03’ ...
** using staged installation
** data
** help
*** installing help indices
** building package indices
Read 450000 items
Read 450000 items
** installing vignettes
** testing if installed package can be loaded from temporary location
** testing if installed package can be loaded from final location
** testing if installed package keeps a record of temporary installation path
* DONE (HIVcDNAvantWout03)