Back to Multiple platform build/check report for BioC 3.13 experimental data
ABCDEFGHIJKLMNOPQRS[T]UVWXYZ

BUILD report for topdownrdata on malbec2

This page was generated on 2021-01-21 16:01:23 -0500 (Thu, 21 Jan 2021).

TO THE DEVELOPERS/MAINTAINERS OF THE topdownrdata PACKAGE: Please make sure to use the following settings in order to reproduce any error or warning you see on this page.
Package 372/386HostnameOS / ArchINSTALLBUILDCHECK
topdownrdata 1.13.0
Sebastian Gibb
Snapshot Date: 2021-01-21 09:00:14 -0500 (Thu, 21 Jan 2021)
URL: https://git.bioconductor.org/packages/topdownrdata
Branch: master
Last Commit: ed158f8
Last Changed Date: 2020-10-27 10:24:28 -0500 (Tue, 27 Oct 2020)
malbec2 Linux (Ubuntu 20.04.1 LTS) / x86_64  OK [ OK ] OK UNNEEDED, same version exists in internal repository
riesling1 Windows Server 2019 Standard / x64  OK  OK  OK 

Summary

Package: topdownrdata
Version: 1.13.0
Command: /home/biocbuild/bbs-3.13-bioc/R/bin/R CMD build --keep-empty-dirs --no-resave-data topdownrdata
StartedAt: 2021-01-21 11:34:24 -0500 (Thu, 21 Jan 2021)
EndedAt: 2021-01-21 11:34:37 -0500 (Thu, 21 Jan 2021)
EllapsedTime: 13.4 seconds
RetCode: 0
Status:  OK 
PackageFile: topdownrdata_1.13.0.tar.gz
PackageFileSize: 100.9 MiB

Command output

##############################################################################
##############################################################################
###
### Running command:
###
###   /home/biocbuild/bbs-3.13-bioc/R/bin/R CMD build --keep-empty-dirs --no-resave-data topdownrdata
###
##############################################################################
##############################################################################


* checking for file ‘topdownrdata/DESCRIPTION’ ... OK
* preparing ‘topdownrdata’:
* checking DESCRIPTION meta-information ... OK
* checking for LF line-endings in source and make files and shell scripts
* checking for empty or unneeded directories
* building ‘topdownrdata_1.13.0.tar.gz’
Warning in utils::tar(filepath, pkgname, compression = compression, compression_level = 9L,  :
  storing paths of more than 100 bytes is not portable:
  ‘topdownrdata/inst/extdata/20170629_myo/experiments/myo_1211_ETDReagentTarget_1e6_1.experiments.csv.gz’
Warning in utils::tar(filepath, pkgname, compression = compression, compression_level = 9L,  :
  storing paths of more than 100 bytes is not portable:
  ‘topdownrdata/inst/extdata/20170629_myo/experiments/myo_1211_ETDReagentTarget_1e6_2.experiments.csv.gz’
Warning in utils::tar(filepath, pkgname, compression = compression, compression_level = 9L,  :
  storing paths of more than 100 bytes is not portable:
  ‘topdownrdata/inst/extdata/20170629_myo/experiments/myo_1211_ETDReagentTarget_1e7_1.experiments.csv.gz’
Warning in utils::tar(filepath, pkgname, compression = compression, compression_level = 9L,  :
  storing paths of more than 100 bytes is not portable:
  ‘topdownrdata/inst/extdata/20170629_myo/experiments/myo_1211_ETDReagentTarget_1e7_2.experiments.csv.gz’
Warning in utils::tar(filepath, pkgname, compression = compression, compression_level = 9L,  :
  storing paths of more than 100 bytes is not portable:
  ‘topdownrdata/inst/extdata/20170629_myo/experiments/myo_1211_ETDReagentTarget_5e6_1.experiments.csv.gz’
Warning in utils::tar(filepath, pkgname, compression = compression, compression_level = 9L,  :
  storing paths of more than 100 bytes is not portable:
  ‘topdownrdata/inst/extdata/20170629_myo/experiments/myo_1211_ETDReagentTarget_5e6_2.experiments.csv.gz’
Warning in utils::tar(filepath, pkgname, compression = compression, compression_level = 9L,  :
  storing paths of more than 100 bytes is not portable:
  ‘topdownrdata/inst/extdata/20170705_h3_3/experiments/h3_3_563_ETDReagentTarget_1e6_1.experiments.csv.gz’
Warning in utils::tar(filepath, pkgname, compression = compression, compression_level = 9L,  :
  storing paths of more than 100 bytes is not portable:
  ‘topdownrdata/inst/extdata/20170705_h3_3/experiments/h3_3_563_ETDReagentTarget_1e6_2.experiments.csv.gz’
Warning in utils::tar(filepath, pkgname, compression = compression, compression_level = 9L,  :
  storing paths of more than 100 bytes is not portable:
  ‘topdownrdata/inst/extdata/20170705_h3_3/experiments/h3_3_563_ETDReagentTarget_1e7_1.experiments.csv.gz’
Warning in utils::tar(filepath, pkgname, compression = compression, compression_level = 9L,  :
  storing paths of more than 100 bytes is not portable:
  ‘topdownrdata/inst/extdata/20170705_h3_3/experiments/h3_3_563_ETDReagentTarget_1e7_2.experiments.csv.gz’
Warning in utils::tar(filepath, pkgname, compression = compression, compression_level = 9L,  :
  storing paths of more than 100 bytes is not portable:
  ‘topdownrdata/inst/extdata/20170705_h3_3/experiments/h3_3_563_ETDReagentTarget_5e6_1.experiments.csv.gz’
Warning in utils::tar(filepath, pkgname, compression = compression, compression_level = 9L,  :
  storing paths of more than 100 bytes is not portable:
  ‘topdownrdata/inst/extdata/20170705_h3_3/experiments/h3_3_563_ETDReagentTarget_5e6_2.experiments.csv.gz’
Warning in utils::tar(filepath, pkgname, compression = compression, compression_level = 9L,  :
  storing paths of more than 100 bytes is not portable:
  ‘topdownrdata/inst/extdata/20170705_h3_3/experiments/h3_3_691_ETDReagentTarget_1e6_1.experiments.csv.gz’
Warning in utils::tar(filepath, pkgname, compression = compression, compression_level = 9L,  :
  storing paths of more than 100 bytes is not portable:
  ‘topdownrdata/inst/extdata/20170705_h3_3/experiments/h3_3_691_ETDReagentTarget_1e6_2.experiments.csv.gz’
Warning in utils::tar(filepath, pkgname, compression = compression, compression_level = 9L,  :
  storing paths of more than 100 bytes is not portable:
  ‘topdownrdata/inst/extdata/20170705_h3_3/experiments/h3_3_691_ETDReagentTarget_1e7_1.experiments.csv.gz’
Warning in utils::tar(filepath, pkgname, compression = compression, compression_level = 9L,  :
  storing paths of more than 100 bytes is not portable:
  ‘topdownrdata/inst/extdata/20170705_h3_3/experiments/h3_3_691_ETDReagentTarget_1e7_2.experiments.csv.gz’
Warning in utils::tar(filepath, pkgname, compression = compression, compression_level = 9L,  :
  storing paths of more than 100 bytes is not portable:
  ‘topdownrdata/inst/extdata/20170705_h3_3/experiments/h3_3_691_ETDReagentTarget_5e6_1.experiments.csv.gz’
Warning in utils::tar(filepath, pkgname, compression = compression, compression_level = 9L,  :
  storing paths of more than 100 bytes is not portable:
  ‘topdownrdata/inst/extdata/20170705_h3_3/experiments/h3_3_691_ETDReagentTarget_5e6_2.experiments.csv.gz’
Warning in utils::tar(filepath, pkgname, compression = compression, compression_level = 9L,  :
  storing paths of more than 100 bytes is not portable:
  ‘topdownrdata/inst/extdata/20170705_h3_3/experiments/h3_3_894_ETDReagentTarget_1e6_1.experiments.csv.gz’
Warning in utils::tar(filepath, pkgname, compression = compression, compression_level = 9L,  :
  storing paths of more than 100 bytes is not portable:
  ‘topdownrdata/inst/extdata/20170705_h3_3/experiments/h3_3_894_ETDReagentTarget_1e6_2.experiments.csv.gz’
Warning in utils::tar(filepath, pkgname, compression = compression, compression_level = 9L,  :
  storing paths of more than 100 bytes is not portable:
  ‘topdownrdata/inst/extdata/20170705_h3_3/experiments/h3_3_894_ETDReagentTarget_1e7_1.experiments.csv.gz’
Warning in utils::tar(filepath, pkgname, compression = compression, compression_level = 9L,  :
  storing paths of more than 100 bytes is not portable:
  ‘topdownrdata/inst/extdata/20170705_h3_3/experiments/h3_3_894_ETDReagentTarget_1e7_2.experiments.csv.gz’
Warning in utils::tar(filepath, pkgname, compression = compression, compression_level = 9L,  :
  storing paths of more than 100 bytes is not portable:
  ‘topdownrdata/inst/extdata/20170705_h3_3/experiments/h3_3_894_ETDReagentTarget_5e6_1.experiments.csv.gz’
Warning in utils::tar(filepath, pkgname, compression = compression, compression_level = 9L,  :
  storing paths of more than 100 bytes is not portable:
  ‘topdownrdata/inst/extdata/20170705_h3_3/experiments/h3_3_894_ETDReagentTarget_5e6_2.experiments.csv.gz’