Back to Multiple platform build/check report for BioC 3.13
A[B]CDEFGHIJKLMNOPQRSTUVWXYZ

Multiple platform build/check report for BioC 3.13

Results for beadarraySNP

This page was generated on 2020-11-30 12:16:50 -0500 (Mon, 30 Nov 2020).

Package 133/1914HostnameOS / ArchINSTALLBUILDCHECKBUILD BIN
beadarraySNP 1.57.0
Jan Oosting
Snapshot Date: 2020-11-29 14:40:27 -0500 (Sun, 29 Nov 2020)
URL: https://git.bioconductor.org/packages/beadarraySNP
Branch: master
Last Commit: ad139f2
Last Changed Date: 2020-10-27 10:29:26 -0500 (Tue, 27 Oct 2020)
malbec2 Linux (Ubuntu 20.04.1 LTS) / x86_64  OK  OK  OK UNNEEDED, same version exists in internal repository
tokay2 Windows Server 2012 R2 Standard / x64  OK  OK  WARNINGS  OK UNNEEDED, same version exists in internal repository
riesling1 Windows Server 2019 Standard / x64  OK  OK  WARNINGS  OK 
machv2 macOS 10.14.6 Mojave / x86_64  OK  OK  OK  OK UNNEEDED, same version exists in internal repository