Back to Build/check report for BioC 3.15
AB[C]DEFGHIJKLMNOPQRSTUVWXYZ

This page was generated on 2021-10-27 12:44:03 -0400 (Wed, 27 Oct 2021).

All results for package crisprseekplus

To the developers/maintainers of the crisprseekplus package:
- Please allow up to 24 hours (and sometimes 48 hours) for your latest push to git@git.bioconductor.org:packages/crisprseekplus.git to
reflect on this report. See How and When does the builder pull? When will my changes propagate? here for more information.
- Make sure to use the following settings in order to reproduce any error or warning you see on this page.

raw results

Package 413/2060HostnameOS / ArchINSTALLBUILDCHECKBUILD BIN
crisprseekplus 1.21.0  (landing page)
Alper Kucukural
Snapshot Date: 2021-10-26 14:50:02 -0400 (Tue, 26 Oct 2021)
git_url: https://git.bioconductor.org/packages/crisprseekplus
git_branch: master
git_last_commit: 6eb4a83
git_last_commit_date: 2021-10-26 12:30:57 -0400 (Tue, 26 Oct 2021)
nebbiolo1Linux (Ubuntu 20.04.2 LTS) / x86_64  OK    OK    OK  NO, package depends on 'CRISPRseek' which is not available