Back to Multiple platform build/check report for BioC 3.19:   simplified   long
[A]BCDEFGHIJKLMNOPQRSTUVWXYZ

This page was generated on 2024-02-18 02:29:29 -0500 (Sun, 18 Feb 2024).

HostnameOSArch (*)R versionInstalled pkgs
nebbiolo1Linux (Ubuntu 22.04.3 LTS)x86_64R Under development (unstable) (2024-01-16 r85808) -- "Unsuffered Consequences" 4657
palomino3Windows Server 2022 Datacenterx64R Under development (unstable) (2024-01-14 r85805 ucrt) -- "Unsuffered Consequences" 4397
merida1macOS 12.7.1 Montereyx86_64R Under development (unstable) (2024-01-16 r85808) -- "Unsuffered Consequences" 4424
kunpeng2Linux (openEuler 22.03 LTS-SP1)aarch64R Under development (unstable) (2024-01-16 r85812) -- "Unsuffered Consequences" 4400
Click on any hostname to see more info about the system (e.g. compilers)      (*) as reported by 'uname -p', except on Windows and Mac OS X

Package 68/2244HostnameOS / ArchINSTALLBUILDCHECKBUILD BIN
annmap 1.45.0  (landing page)
Chris Wirth
Snapshot Date: 2024-02-16 14:10:20 -0500 (Fri, 16 Feb 2024)
git_url: https://git.bioconductor.org/packages/annmap
git_branch: devel
git_last_commit: 8e3d9a4
git_last_commit_date: 2023-10-24 09:50:21 -0500 (Tue, 24 Oct 2023)
nebbiolo1Linux (Ubuntu 22.04.3 LTS) / x86_64  OK    OK    WARNINGS  UNNEEDED, same version is already published
palomino3Windows Server 2022 Datacenter / x64... NOT SUPPORTED ...
merida1macOS 12.7.1 Monterey / x86_64  ERROR    ERROR  skippedskipped
kunpeng2Linux (openEuler 22.03 LTS-SP1) / aarch64  OK    OK    WARNINGS  

INSTALL results for annmap on kunpeng2


To the developers/maintainers of the annmap package:
- Allow up to 24 hours (and sometimes 48 hours) for your latest push to git@git.bioconductor.org:packages/annmap.git to reflect on this report. See Troubleshooting Build Report for more information.
- Use the following Renviron settings to reproduce errors and warnings.
- If 'R CMD check' started to fail recently on the Linux builder(s) over a missing dependency, add the missing dependency to 'Suggests:' in your DESCRIPTION file. See Renviron.bioc for more information.
- See Martin Grigorov's blog post for how to debug Linux ARM64 related issues on a x86_64 host.

raw results


Summary

Package: annmap
Version: 1.45.0
Command: /home/biocbuild/R/R-devel_2024-01-16_r85812/bin/R CMD INSTALL annmap
StartedAt: 2024-02-16 20:39:36 -0000 (Fri, 16 Feb 2024)
EndedAt: 2024-02-16 20:40:08 -0000 (Fri, 16 Feb 2024)
EllapsedTime: 32.1 seconds
RetCode: 0
Status:   OK  

Command output

##############################################################################
##############################################################################
###
### Running command:
###
###   /home/biocbuild/R/R-devel_2024-01-16_r85812/bin/R CMD INSTALL annmap
###
##############################################################################
##############################################################################


* installing to library ‘/home/biocbuild/R/R-devel_2024-01-16_r85812/site-library’
* installing *source* package ‘annmap’ ...
** using staged installation
** R
** inst
** byte-compile and prepare package for lazy loading
in method for ‘probesetInRange’ with signature ‘x="RangedData"’: no definition for class “RangedData”
in method for ‘probeInRange’ with signature ‘x="RangedData"’: no definition for class “RangedData”
in method for ‘proteinInRange’ with signature ‘x="RangedData"’: no definition for class “RangedData”
in method for ‘domainInRange’ with signature ‘x="RangedData"’: no definition for class “RangedData”
in method for ‘geneInRange’ with signature ‘x="RangedData"’: no definition for class “RangedData”
in method for ‘transcriptInRange’ with signature ‘x="RangedData"’: no definition for class “RangedData”
in method for ‘exonInRange’ with signature ‘x="RangedData"’: no definition for class “RangedData”
in method for ‘estGeneInRange’ with signature ‘x="RangedData"’: no definition for class “RangedData”
in method for ‘estTranscriptInRange’ with signature ‘x="RangedData"’: no definition for class “RangedData”
in method for ‘estExonInRange’ with signature ‘x="RangedData"’: no definition for class “RangedData”
in method for ‘predictionTranscriptInRange’ with signature ‘x="RangedData"’: no definition for class “RangedData”
** help
*** installing help indices
** building package indices
** installing vignettes
** testing if installed package can be loaded from temporary location
** testing if installed package can be loaded from final location
** testing if installed package keeps a record of temporary installation path
* DONE (annmap)