Back to Multiple platform build/check report for BioC 3.20:   simplified   long
ABCDEFGHIJKLMNO[P]QRSTUVWXYZ

This page was generated on 2024-05-15 13:46:40 -0400 (Wed, 15 May 2024).

HostnameOSArch (*)R versionInstalled pkgs
nebbiolo2Linux (Ubuntu 22.04.3 LTS)x86_644.4.0 RC (2024-04-16 r86468) -- "Puppy Cup" 4663
kunpeng2Linux (openEuler 22.03 LTS-SP1)aarch644.4.0 beta (2024-04-15 r86425) -- "Puppy Cup" 4480
Click on any hostname to see more info about the system (e.g. compilers)      (*) as reported by 'uname -p', except on Windows and Mac OS X

Package 1569/2230HostnameOS / ArchINSTALLBUILDCHECKBUILD BIN
ProteoDisco 1.11.0  (landing page)
Job van Riet
Snapshot Date: 2024-05-13 14:05:07 -0400 (Mon, 13 May 2024)
git_url: https://git.bioconductor.org/packages/ProteoDisco
git_branch: devel
git_last_commit: ca1c984
git_last_commit_date: 2024-04-30 11:36:56 -0400 (Tue, 30 Apr 2024)
nebbiolo2Linux (Ubuntu 22.04.3 LTS) / x86_64  OK    OK    WARNINGS  UNNEEDED, same version is already published
kunpeng2Linux (openEuler 22.03 LTS-SP1) / aarch64  OK    OK    WARNINGS  
kjohnson1macOS 13.6.6 Ventura / arm64see weekly results here

INSTALL results for ProteoDisco on kunpeng2


To the developers/maintainers of the ProteoDisco package:
- Allow up to 24 hours (and sometimes 48 hours) for your latest push to git@git.bioconductor.org:packages/ProteoDisco.git to reflect on this report. See Troubleshooting Build Report for more information.
- Use the following Renviron settings to reproduce errors and warnings.
- If 'R CMD check' started to fail recently on the Linux builder(s) over a missing dependency, add the missing dependency to 'Suggests:' in your DESCRIPTION file. See Renviron.bioc for more information.
- See Martin Grigorov's blog post for how to debug Linux ARM64 related issues on a x86_64 host.

raw results


Summary

Package: ProteoDisco
Version: 1.10.0
Command: /home/biocbuild/R/R-beta-2024-04-15_r86425/bin/R CMD INSTALL ProteoDisco
StartedAt: 2024-05-08 20:29:20 -0000 (Wed, 08 May 2024)
EndedAt: 2024-05-08 20:30:33 -0000 (Wed, 08 May 2024)
EllapsedTime: 72.6 seconds
RetCode: 0
Status:   OK  

Command output

##############################################################################
##############################################################################
###
### Running command:
###
###   /home/biocbuild/R/R-beta-2024-04-15_r86425/bin/R CMD INSTALL ProteoDisco
###
##############################################################################
##############################################################################


* installing to library ‘/home/biocbuild/R/R-beta-2024-04-15_r86425/site-library’
* installing *source* package ‘ProteoDisco’ ...
** using staged installation
** R
** data
** inst
** byte-compile and prepare package for lazy loading
Warning: replacing previous import ‘dplyr::rename’ by ‘plyr::rename’ when loading ‘ProteoDisco’
Warning: replacing previous import ‘dplyr::count’ by ‘plyr::count’ when loading ‘ProteoDisco’
Warning: replacing previous import ‘dplyr::failwith’ by ‘plyr::failwith’ when loading ‘ProteoDisco’
Warning: replacing previous import ‘dplyr::id’ by ‘plyr::id’ when loading ‘ProteoDisco’
Warning: replacing previous import ‘dplyr::summarize’ by ‘plyr::summarize’ when loading ‘ProteoDisco’
Warning: replacing previous import ‘dplyr::summarise’ by ‘plyr::summarise’ when loading ‘ProteoDisco’
Warning: replacing previous import ‘dplyr::mutate’ by ‘plyr::mutate’ when loading ‘ProteoDisco’
Warning: replacing previous import ‘dplyr::desc’ by ‘plyr::desc’ when loading ‘ProteoDisco’
Warning: replacing previous import ‘dplyr::arrange’ by ‘plyr::arrange’ when loading ‘ProteoDisco’
** help
*** installing help indices
** building package indices
** installing vignettes
** testing if installed package can be loaded from temporary location
Warning: replacing previous import ‘dplyr::rename’ by ‘plyr::rename’ when loading ‘ProteoDisco’
Warning: replacing previous import ‘dplyr::count’ by ‘plyr::count’ when loading ‘ProteoDisco’
Warning: replacing previous import ‘dplyr::failwith’ by ‘plyr::failwith’ when loading ‘ProteoDisco’
Warning: replacing previous import ‘dplyr::id’ by ‘plyr::id’ when loading ‘ProteoDisco’
Warning: replacing previous import ‘dplyr::summarize’ by ‘plyr::summarize’ when loading ‘ProteoDisco’
Warning: replacing previous import ‘dplyr::summarise’ by ‘plyr::summarise’ when loading ‘ProteoDisco’
Warning: replacing previous import ‘dplyr::mutate’ by ‘plyr::mutate’ when loading ‘ProteoDisco’
Warning: replacing previous import ‘dplyr::desc’ by ‘plyr::desc’ when loading ‘ProteoDisco’
Warning: replacing previous import ‘dplyr::arrange’ by ‘plyr::arrange’ when loading ‘ProteoDisco’
** testing if installed package can be loaded from final location
Warning: replacing previous import ‘dplyr::rename’ by ‘plyr::rename’ when loading ‘ProteoDisco’
Warning: replacing previous import ‘dplyr::count’ by ‘plyr::count’ when loading ‘ProteoDisco’
Warning: replacing previous import ‘dplyr::failwith’ by ‘plyr::failwith’ when loading ‘ProteoDisco’
Warning: replacing previous import ‘dplyr::id’ by ‘plyr::id’ when loading ‘ProteoDisco’
Warning: replacing previous import ‘dplyr::summarize’ by ‘plyr::summarize’ when loading ‘ProteoDisco’
Warning: replacing previous import ‘dplyr::summarise’ by ‘plyr::summarise’ when loading ‘ProteoDisco’
Warning: replacing previous import ‘dplyr::mutate’ by ‘plyr::mutate’ when loading ‘ProteoDisco’
Warning: replacing previous import ‘dplyr::desc’ by ‘plyr::desc’ when loading ‘ProteoDisco’
Warning: replacing previous import ‘dplyr::arrange’ by ‘plyr::arrange’ when loading ‘ProteoDisco’
** testing if installed package keeps a record of temporary installation path
* DONE (ProteoDisco)