Back to Multiple platform build/check report for BioC 3.19:   simplified   long
ABCDEFGHIJKLMNOPQRSTU[V]WXYZ

This page was generated on 2024-03-01 11:37:14 -0500 (Fri, 01 Mar 2024).

HostnameOSArch (*)R versionInstalled pkgs
nebbiolo1Linux (Ubuntu 22.04.3 LTS)x86_64R Under development (unstable) (2024-01-16 r85808) -- "Unsuffered Consequences" 4676
palomino3Windows Server 2022 Datacenterx64R Under development (unstable) (2024-01-14 r85805 ucrt) -- "Unsuffered Consequences" 4414
merida1macOS 12.7.1 Montereyx86_64R Under development (unstable) (2024-01-16 r85808) -- "Unsuffered Consequences" 4441
kunpeng2Linux (openEuler 22.03 LTS-SP1)aarch64R Under development (unstable) (2024-01-16 r85812) -- "Unsuffered Consequences" 4417
Click on any hostname to see more info about the system (e.g. compilers)      (*) as reported by 'uname -p', except on Windows and Mac OS X

Package 2202/2251HostnameOS / ArchINSTALLBUILDCHECKBUILD BIN
VariantFiltering 1.39.0  (landing page)
Robert Castelo
Snapshot Date: 2024-02-28 14:00:14 -0500 (Wed, 28 Feb 2024)
git_url: https://git.bioconductor.org/packages/VariantFiltering
git_branch: devel
git_last_commit: 3015ee2
git_last_commit_date: 2023-10-24 09:58:34 -0500 (Tue, 24 Oct 2023)
nebbiolo1Linux (Ubuntu 22.04.3 LTS) / x86_64  OK    OK    WARNINGS  UNNEEDED, same version is already published
palomino3Windows Server 2022 Datacenter / x64  OK    OK    OK    OK  UNNEEDED, same version is already published
merida1macOS 12.7.1 Monterey / x86_64  OK    OK    WARNINGS    OK  UNNEEDED, same version is already published
kunpeng2Linux (openEuler 22.03 LTS-SP1) / aarch64  OK    ERROR  skipped

BUILD results for VariantFiltering on nebbiolo1


To the developers/maintainers of the VariantFiltering package:
- Allow up to 24 hours (and sometimes 48 hours) for your latest push to git@git.bioconductor.org:packages/VariantFiltering.git to reflect on this report. See Troubleshooting Build Report for more information.
- Use the following Renviron settings to reproduce errors and warnings.
- If 'R CMD check' started to fail recently on the Linux builder(s) over a missing dependency, add the missing dependency to 'Suggests:' in your DESCRIPTION file. See Renviron.bioc for more information.

raw results


Summary

Package: VariantFiltering
Version: 1.39.0
Command: /home/biocbuild/bbs-3.19-bioc/R/bin/R CMD build --keep-empty-dirs --no-resave-data VariantFiltering
StartedAt: 2024-02-28 19:40:29 -0500 (Wed, 28 Feb 2024)
EndedAt: 2024-02-28 19:43:58 -0500 (Wed, 28 Feb 2024)
EllapsedTime: 208.9 seconds
RetCode: 0
Status:   OK  
PackageFile: VariantFiltering_1.39.0.tar.gz
PackageFileSize: 3.579 MiB

Command output

##############################################################################
##############################################################################
###
### Running command:
###
###   /home/biocbuild/bbs-3.19-bioc/R/bin/R CMD build --keep-empty-dirs --no-resave-data VariantFiltering
###
##############################################################################
##############################################################################


* checking for file ‘VariantFiltering/DESCRIPTION’ ... OK
* preparing ‘VariantFiltering’:
* checking DESCRIPTION meta-information ... OK
* cleaning src
* installing the package to build vignettes
* creating vignettes ... OK
* cleaning src
* checking for LF line-endings in source and make files and shell scripts
* checking for empty or unneeded directories
* building ‘VariantFiltering_1.39.0.tar.gz’