Back to Build/check report for BioC 3.15
ABC[D]EFGHIJKLMNOPQRSTUVWXYZ

This page was generated on 2021-12-04 12:32:14 -0500 (Sat, 04 Dec 2021).

INSTALL results for DRIMSeq on nebbiolo1

To the developers/maintainers of the DRIMSeq package:
- Please allow up to 24 hours (and sometimes 48 hours) for your latest push to git@git.bioconductor.org:packages/DRIMSeq.git to
reflect on this report. See How and When does the builder pull? When will my changes propagate? here for more information.
- Make sure to use the following settings in order to reproduce any error or warning you see on this page.

raw results

Package 538/2068HostnameOS / ArchINSTALLBUILDCHECKBUILD BIN
DRIMSeq 1.23.0  (landing page)
Malgorzata Nowicka
Snapshot Date: 2021-12-03 13:55:11 -0500 (Fri, 03 Dec 2021)
git_url: https://git.bioconductor.org/packages/DRIMSeq
git_branch: master
git_last_commit: 6156d62
git_last_commit_date: 2021-10-26 12:26:21 -0500 (Tue, 26 Oct 2021)
nebbiolo1Linux (Ubuntu 20.04.3 LTS) / x86_64  OK    OK    WARNINGS  UNNEEDED, same version is already published

Summary

Package: DRIMSeq
Version: 1.23.0
Command: /home/biocbuild/bbs-3.15-bioc/R/bin/R CMD INSTALL DRIMSeq
StartedAt: 2021-12-03 15:17:36 -0500 (Fri, 03 Dec 2021)
EndedAt: 2021-12-03 15:17:48 -0500 (Fri, 03 Dec 2021)
EllapsedTime: 11.9 seconds
RetCode: 0
Status:   OK  

Command output

##############################################################################
##############################################################################
###
### Running command:
###
###   /home/biocbuild/bbs-3.15-bioc/R/bin/R CMD INSTALL DRIMSeq
###
##############################################################################
##############################################################################


* installing to library ‘/home/biocbuild/bbs-3.15-bioc/R/library’
* installing *source* package ‘DRIMSeq’ ...
** using staged installation
** R
** inst
** preparing package for lazy loading
Creating a new generic function for ‘proportions’ in package ‘DRIMSeq’
** help
*** installing help indices
** building package indices
** installing vignettes
** testing if installed package can be loaded from temporary location
** testing if installed package can be loaded from final location
** testing if installed package keeps a record of temporary installation path
* DONE (DRIMSeq)